BEGIN:VCALENDAR
VERSION:2.0
PRODID:-//St.GeOrgel - ECPv6.15.11//NONSGML v1.0//EN
CALSCALE:GREGORIAN
METHOD:PUBLISH
X-WR-CALNAME:St.GeOrgel
X-ORIGINAL-URL:https://georgel.me
X-WR-CALDESC:Veranstaltungen für St.GeOrgel
REFRESH-INTERVAL;VALUE=DURATION:PT1H
X-Robots-Tag:noindex
X-PUBLISHED-TTL:PT1H
BEGIN:VTIMEZONE
TZID:Europe/Berlin
BEGIN:DAYLIGHT
TZOFFSETFROM:+0100
TZOFFSETTO:+0200
TZNAME:CEST
DTSTART:20240331T010000
END:DAYLIGHT
BEGIN:STANDARD
TZOFFSETFROM:+0200
TZOFFSETTO:+0100
TZNAME:CET
DTSTART:20241027T010000
END:STANDARD
BEGIN:DAYLIGHT
TZOFFSETFROM:+0100
TZOFFSETTO:+0200
TZNAME:CEST
DTSTART:20250330T010000
END:DAYLIGHT
BEGIN:STANDARD
TZOFFSETFROM:+0200
TZOFFSETTO:+0100
TZNAME:CET
DTSTART:20251026T010000
END:STANDARD
BEGIN:DAYLIGHT
TZOFFSETFROM:+0100
TZOFFSETTO:+0200
TZNAME:CEST
DTSTART:20260329T010000
END:DAYLIGHT
BEGIN:STANDARD
TZOFFSETFROM:+0200
TZOFFSETTO:+0100
TZNAME:CET
DTSTART:20261025T010000
END:STANDARD
END:VTIMEZONE
BEGIN:VEVENT
DTSTART;TZID=Europe/Berlin:20250905T170000
DTEND;TZID=Europe/Berlin:20250905T200000
DTSTAMP:20260419T235634
CREATED:20250715T045521Z
LAST-MODIFIED:20250901T140633Z
UID:2637-1757091600-1757102400@georgel.me
SUMMARY:GeOrgel-zines (Bar jeden Nutzens)
DESCRIPTION:3 Jahre GeOrgel – wir sichten Fotos\, Videos\, Texte und basteln gemeinsam & individuell kleine Heftchen zum Mitnehmen daraus: \nein offenes Atelier und Workshop im Rahmen von Press it! \n3 Jahre GeOrgel- Archiv von Veranstaltungen: \nKonzerte\, Workshops\, Open Studios\, \nBesucher: innen in der Klang- und Rauminstallation\, \nInterviews mit Anwohner: innen\, Begegnungen auf dem Bürgersteig\, vor dem GeOrgel an der Haltestelle Stephanstrasse. \n 
URL:https://georgel.me/veranstaltung/georgel-zines-dj/
CATEGORIES:DJ Set,Lesung,offenes Atelier,Spielen,Workshop
ATTACH;FMTTYPE=image/jpeg:https://georgel.me/wp-content/uploads/2025/07/2509GeOrgel_ZinesN.jpeg
END:VEVENT
BEGIN:VEVENT
DTSTART;TZID=Europe/Berlin:20250906T150000
DTEND;TZID=Europe/Berlin:20250906T200000
DTSTAMP:20260419T235634
CREATED:20250714T173019Z
LAST-MODIFIED:20250715T045158Z
UID:2617-1757170800-1757188800@georgel.me
SUMMARY:GeOrgel-zines
DESCRIPTION:3 Jahre GeOrgel – wir sichten Fotos\, Videos\, Texte und basteln gemeinsam & individuell kleine Heftchen zum Mitnehmen daraus: \nein offenes Atelier und Workshop im Rahmen von Press it! \n3 Jahre GeOrgel- Archiv von Veranstaltungen: \nKonzerte\, Workshops\, Open Studios\, \nBesucher: innen in der Klang- und Rauminstallation\, \nInterviews mit Anwohner: innen\, Begegnungen auf dem Bürgersteig\, vor dem GeOrgel an der Haltestelle Stephanstrasse.
URL:https://georgel.me/veranstaltung/georgel-zine/
CATEGORIES:DJ Set,Lesung,offenes Atelier,Spielen,Workshop
ATTACH;FMTTYPE=image/jpeg:https://georgel.me/wp-content/uploads/2022/11/cropped-IMG_4482.jpg
END:VEVENT
BEGIN:VEVENT
DTSTART;TZID=Europe/Berlin:20250906T160000
DTEND;TZID=Europe/Berlin:20250906T200000
DTSTAMP:20260419T235634
CREATED:20250715T051257Z
LAST-MODIFIED:20250715T051257Z
UID:2640-1757174400-1757188800@georgel.me
SUMMARY:Camping ensemble: the great dictator (@kalte Halle)
DESCRIPTION:„Camping ensemble“ ist eine 12-Kanal-Klang- & Lichtinstallation von Stefan Demming\, die Filme in eine elektronische Komposition umsetzt. \nIn der „kalten Halle“ wird  dafür Charlie Chaplins Film „The great dictator“ als steuerndes Ausgangsmaterial gewählt. \nDer auf 12 Pixel skalierte Film steuert dabei Helligkeit und Lautstärke von 12 blauen Campingzelten\, die jeweils mit einem anderen Sinuston belegt sind. Wird ein Pixel hell erleuchtet\, so wird die Lautstärke zugleich erhöht. \n  \n\nWebsite Stefan Demming \n\n\n\nCamping Ensemble 2.0 (AT) \n12 Zelte\, 12 Lampen\, 12-Kanal-Audio\, Lichtsteuerungen\, 1 Computer\, individuelle Software; Maße variabel\, mindestens 500 x 600 x 100 cm \n\n\n\nCamping Ensemble 2.0 (AT) ist eine skulpturale Licht- und Klanginstallation\, aus Bewegtbildern die aus Filmen eine generative Komposition erstellt. Zwölf Zelte enthalten jeweils eine Lampe\, die die wechselnde Helligkeit der einzelnen Pixel eines auf 12 Pixel skalierten Films wiedergibt. Parallel zum Licht wird in jedem Zelt ein anderer Sinuston abgespielt\, dessen Lautstärke an die Lichtmenge gekoppelt ist.\nDa die Sinustöne in einer Reihe verbundener Frequenzen stehen\, entsteht eine harmonische\, polyphone Komposition. Die Installation wird zu einer visuellen\, abstrakten Orgel\, die von einem Film gespielt wird. \nDie Arbeit ist die Weiterentwicklung eines früheren Aufbaus hin zur öffentlichen Vorführung ausgewählter Filmen für ausgewählte Orte.\nZudem wird die 12-Kanal-Audio-Installation weiterentwickelt: \n\n–  als Instrument\, das von eingeladenen Musiker:innen bespielt werden kann\n–  für Raum-Licht-Konzerte an Kulturorten\, im Öffentlichen Raum in unterschiedlichen\nFormationen und an besonderen Orten wie bspw Parks und Halden
URL:https://georgel.me/veranstaltung/camping-ens/
LOCATION:Kalte Halle\, hinterm Hier ist nicht da (Hind)
CATEGORIES:Ausstellung,Spielen
ATTACH;FMTTYPE=image/jpeg:https://georgel.me/wp-content/uploads/2025/07/0906CampingEnsemble_8774-scaled.jpg
END:VEVENT
BEGIN:VEVENT
DTSTART;TZID=Europe/Berlin:20250911T160000
DTEND;TZID=Europe/Berlin:20250911T200000
DTSTAMP:20260419T235634
CREATED:20250715T051633Z
LAST-MODIFIED:20250715T051650Z
UID:2648-1757606400-1757620800@georgel.me
SUMMARY:Camping ensemble: the great dictator (@kalte Halle)
DESCRIPTION:„Camping ensemble“ ist eine 12-Kanal-Klang- & Lichtinstallation von Stefan Demming\, die Filme in eine elektronische Komposition umsetzt. \nIn der „kalten Halle“ wird  dafür Charlie Chaplins Film „The great dictator“ als steuerndes Ausgangsmaterial gewählt. \nDer auf 12 Pixel skalierte Film steuert dabei Helligkeit und Lautstärke von 12 blauen Campingzelten\, die jeweils mit einem anderen Sinuston belegt sind. Wird ein Pixel hell erleuchtet\, so wird die Lautstärke zugleich erhöht. \n  \n\nWebsite Stefan Demming \n\n\n\nCamping Ensemble 2.0 (AT) \n12 Zelte\, 12 Lampen\, 12-Kanal-Audio\, Lichtsteuerungen\, 1 Computer\, individuelle Software; Maße variabel\, mindestens 500 x 600 x 100 cm \n\n\n\nCamping Ensemble 2.0 (AT) ist eine skulpturale Licht- und Klanginstallation\, aus Bewegtbildern die aus Filmen eine generative Komposition erstellt. Zwölf Zelte enthalten jeweils eine Lampe\, die die wechselnde Helligkeit der einzelnen Pixel eines auf 12 Pixel skalierten Films wiedergibt. Parallel zum Licht wird in jedem Zelt ein anderer Sinuston abgespielt\, dessen Lautstärke an die Lichtmenge gekoppelt ist.\nDa die Sinustöne in einer Reihe verbundener Frequenzen stehen\, entsteht eine harmonische\, polyphone Komposition. Die Installation wird zu einer visuellen\, abstrakten Orgel\, die von einem Film gespielt wird. \nDie Arbeit ist die Weiterentwicklung eines früheren Aufbaus hin zur öffentlichen Vorführung ausgewählter Filmen für ausgewählte Orte.\nZudem wird die 12-Kanal-Audio-Installation weiterentwickelt: \n\n–  als Instrument\, das von eingeladenen Musiker:innen bespielt werden kann\n–  für Raum-Licht-Konzerte an Kulturorten\, im Öffentlichen Raum in unterschiedlichenFormationen und an besonderen Orten wie bspw Parks und Halden
URL:https://georgel.me/veranstaltung/camping-ensemble-the-great-dictator-kalte-halle-2/
LOCATION:Kalte Halle\, hinterm Hier ist nicht da (Hind)
CATEGORIES:Ausstellung,Spielen
ATTACH;FMTTYPE=image/jpeg:https://georgel.me/wp-content/uploads/2025/07/0906CampingEnsemble_8774-scaled.jpg
END:VEVENT
BEGIN:VEVENT
DTSTART;TZID=Europe/Berlin:20250912T170000
DTEND;TZID=Europe/Berlin:20250912T200000
DTSTAMP:20260419T235634
CREATED:20250715T052357Z
LAST-MODIFIED:20250715T053006Z
UID:2650-1757696400-1757707200@georgel.me
SUMMARY:BarJedenNutzens (BjN)
DESCRIPTION:Wir sind da. Menschen\, die Spendenbar & Klangschrankwand sind offen. Wir sind für eine offene Gesellschaft\, gegen Hass und Hetze – nicht nur zu aber ganz besonders in Zeiten von Kommunalwahlen!
URL:https://georgel.me/veranstaltung/bjn/
LOCATION:St. GeOrgel
CATEGORIES:offenes Atelier,Spielen
END:VEVENT
BEGIN:VEVENT
DTSTART;TZID=Europe/Berlin:20250913T160000
DTEND;TZID=Europe/Berlin:20250913T200000
DTSTAMP:20260419T235634
CREATED:20250715T051536Z
LAST-MODIFIED:20250715T051536Z
UID:2646-1757779200-1757793600@georgel.me
SUMMARY:Camping ensemble: the great dictator (@kalte Halle)
DESCRIPTION:„Camping ensemble“ ist eine 12-Kanal-Klang- & Lichtinstallation von Stefan Demming\, die Filme in eine elektronische Komposition umsetzt. \nIn der „kalten Halle“ wird  dafür Charlie Chaplins Film „The great dictator“ als steuerndes Ausgangsmaterial gewählt. \nDer auf 12 Pixel skalierte Film steuert dabei Helligkeit und Lautstärke von 12 blauen Campingzelten\, die jeweils mit einem anderen Sinuston belegt sind. Wird ein Pixel hell erleuchtet\, so wird die Lautstärke zugleich erhöht. \n  \n\nWebsite Stefan Demming \n\n\n\nCamping Ensemble 2.0 (AT) \n12 Zelte\, 12 Lampen\, 12-Kanal-Audio\, Lichtsteuerungen\, 1 Computer\, individuelle Software; Maße variabel\, mindestens 500 x 600 x 100 cm \n\n\n\nCamping Ensemble 2.0 (AT) ist eine skulpturale Licht- und Klanginstallation\, aus Bewegtbildern die aus Filmen eine generative Komposition erstellt. Zwölf Zelte enthalten jeweils eine Lampe\, die die wechselnde Helligkeit der einzelnen Pixel eines auf 12 Pixel skalierten Films wiedergibt. Parallel zum Licht wird in jedem Zelt ein anderer Sinuston abgespielt\, dessen Lautstärke an die Lichtmenge gekoppelt ist.\nDa die Sinustöne in einer Reihe verbundener Frequenzen stehen\, entsteht eine harmonische\, polyphone Komposition. Die Installation wird zu einer visuellen\, abstrakten Orgel\, die von einem Film gespielt wird. \nDie Arbeit ist die Weiterentwicklung eines früheren Aufbaus hin zur öffentlichen Vorführung ausgewählter Filmen für ausgewählte Orte.\nZudem wird die 12-Kanal-Audio-Installation weiterentwickelt: \n\n–  als Instrument\, das von eingeladenen Musiker:innen bespielt werden kann\n–  für Raum-Licht-Konzerte an Kulturorten\, im Öffentlichen Raum in unterschiedlichenFormationen und an besonderen Orten wie bspw Parks und Halden
URL:https://georgel.me/veranstaltung/camping-ensemble-the-great-dictator-kalte-halle/
LOCATION:Kalte Halle\, hinterm Hier ist nicht da (Hind)
CATEGORIES:Ausstellung,Spielen
ATTACH;FMTTYPE=image/jpeg:https://georgel.me/wp-content/uploads/2025/07/0906CampingEnsemble_8774-scaled.jpg
END:VEVENT
BEGIN:VEVENT
DTSTART;TZID=Europe/Berlin:20250913T203000
DTEND;TZID=Europe/Berlin:20250913T220000
DTSTAMP:20260419T235634
CREATED:20250724T100911Z
LAST-MODIFIED:20250922T080240Z
UID:2699-1757795400-1757800800@georgel.me
SUMMARY:Sedlmeir! live im GeOrgel!
DESCRIPTION:He’s back! Zum GeOrgel-3-Jahre-Jubiläum (& zu KommseÜcken?!) gönnen wir uns und Euch den Hardrockroboter der Extraklasse!\n\n\n\nEmotional wie nie präsentiert Sedlmeir stahlharte Chansons und zarteste Punkrock-Unterhaltung. E-Gitarre\, E-Drums und E-Rock’n’Roll bilden das knisternde Fundament fur Sedlmeirs Beobachtungen\, oft herzerwarmend zynisch\, immer prasent und echt. Zu motzen gibt es ja genug.\nDie eigentliche Kunst Sedlmeirs aber besteht darin\, schonste Wahrheiten sogar aus einer Matrix aus Scheisse heraus zu destillieren und abzufeiern.\nOder sich notfalls welche auszudenken.\nDer Weltraum hat es ihm nun einmal so befohlen. \n\n\n\n\n\n\nAuf der Bühne wird dem musikalisch-performativen Ausdruck ein visuelles Element hinzugefügt: Film- und Bildprojektionen assoziieren frei die dargebotenen Inhalte mittels kontrastreicher Schwarzweißbilder und oder etwa pseudowissenschaftlicher Diagramme. \n\n\n\nHere’s a Rückblick von sein‘ Gig zum GeOrgel-1-Jahr-Jubiläum:\n  \n\n			\n				\n			\n				\n				Sedlmeier weiht die Bühne ein\n				\n			\n				\n			\n				\n				UpCycleTheStreet! dabei..\n				\n			\n				\n			\n		\n\nMusik: \nhttps://sedlmeirx.bandcamp.com/ (nutzt bandcamp\, nicht Spotify\, danke!) \nwebsite: https://sedlmeir-rock.de/ \n  \n20:30 Konzert \n\nAchtung\, das angekündigte DJ-set fällt wegen Krankheit leider aus!\n\n 
URL:https://georgel.me/veranstaltung/sedlmeir/
CATEGORIES:Konzert,Performance,Spielen
ATTACH;FMTTYPE=image/jpeg:https://georgel.me/wp-content/uploads/2023/07/SEDLMEIR_Henning_Sedlmeir.jpg
END:VEVENT
BEGIN:VEVENT
DTSTART;TZID=Europe/Berlin:20250919T160000
DTEND;TZID=Europe/Berlin:20250919T210000
DTSTAMP:20260419T235634
CREATED:20250714T164428Z
LAST-MODIFIED:20250715T052901Z
UID:2610-1758297600-1758315600@georgel.me
SUMMARY:BUNKERN! Trödel am Bunker mit 0-€-Shop
DESCRIPTION:Wir organisieren einen Trödelmarkt am Bunker genau an der Haltestelle Stephanstrasse: kommt\, verkauft und verteilt Eure Sachen\, stöbert\, findet Schätze! Dazu gesellt sich der 0-Euro-Shop: ausgewählte Fundstücke zum Mitnehmen – zum Wegwerfen zu schade!
URL:https://georgel.me/veranstaltung/bunkern/
LOCATION:vor dem Bunker\, gegenüber vom GeOrgel
CATEGORIES:offenes Atelier,Spielen,Trödeln
ATTACH;FMTTYPE=image/jpeg:https://georgel.me/wp-content/uploads/2025/07/2412_0EShop_5387wb.jpg
END:VEVENT
BEGIN:VEVENT
DTSTART;TZID=Europe/Berlin:20250919T170000
DTEND;TZID=Europe/Berlin:20250919T183000
DTSTAMP:20260419T235634
CREATED:20250731T163916Z
LAST-MODIFIED:20250813T091520Z
UID:2608-1758301200-1758306600@georgel.me
SUMMARY:SCHAUSTELLE #06: Marita Bullmann
DESCRIPTION:am Freitag\, den 19.9. ab 17-18:30 Uhr @ (Platz der Heinze-Frauen / Bochumerstr./ ggf teilweise vor dem Justizzentrum) \n-> mehr zum Programm SCHAUSTELLE\nDetails zu SCHAUSTELLE#06: \nMarita Bullmann\nMarita ist eine regional als auch international arbeitende Performance-Künstlerin aus Essen. Sie reagiert in ihren Performances oft situationtiv auf die vorgefundenen Begebenheiten. Daher sind wir gespannt\, sie im Umfeld der Baustelle an der Bochumerstr erleben zu dürfen! Seid dabei! \nMarita im Portrait auf Kulturinfo.ruhr \n 
URL:https://georgel.me/veranstaltung/schaus6/
CATEGORIES:Intervention,Performance,Spielen
ATTACH;FMTTYPE=image/jpeg:https://georgel.me/wp-content/uploads/2025/07/250919Schaustelle_MBullmann_SD.jpg
END:VEVENT
BEGIN:VEVENT
DTSTART;TZID=Europe/Berlin:20250920T150000
DTEND;TZID=Europe/Berlin:20250920T220000
DTSTAMP:20260419T235634
CREATED:20250714T170932Z
LAST-MODIFIED:20250715T092357Z
UID:2614-1758380400-1758405600@georgel.me
SUMMARY:DeltaDub Soundsystem\, Sound Digger Sounds and Friends
DESCRIPTION:Anlässlich der Kulturspur gibt es eine neue HÖR- & Schaustelle: \nJamaikanische/UK – Soundsystem Kultur @ Haltestelle Stephanstr. vor dem Bunker (gegenüber vom GeOrgel).\nÜber den analogen DIY-Lautsprecherturm vom DeltaDub Soundsystem aus Gelsenkirchen werden Dub\, Reggae und Global Sounds parallel zur Strassenbahn 302 über die Bochumerstrasse rollen. Die Selections und Live Performances kommen von Sound Digger Sounds\, Fab I\, Generation Sound und weiteren Freunden der DeltaDub Crew – Last Train to Dubville!
URL:https://georgel.me/veranstaltung/deltadub/
CATEGORIES:DJ Set,Performance,Spielen
ATTACH;FMTTYPE=image/jpeg:https://georgel.me/wp-content/uploads/2025/07/DD_collage.jpg
END:VEVENT
BEGIN:VEVENT
DTSTART;TZID=Europe/Berlin:20250920T160000
DTEND;TZID=Europe/Berlin:20250920T190000
DTSTAMP:20260419T235634
CREATED:20250714T173809Z
LAST-MODIFIED:20250714T221839Z
UID:2619-1758384000-1758394800@georgel.me
SUMMARY:The walking mountain (Schaustelle)
DESCRIPTION:Demo/ Performance auf der Bochumerstrasse mit \nCamilo Pachón\nEs geht um Kohle. Du weisst Bescheid – gerade hier in Gelsenkirchen\, damals ein Motor im Ruhrgebiet: 150 Jahre Stadt aus der Kohle geboren\, Aufstieg und Turbine – auch im Nationalsozialismus – Zerbombung und Wiederaufstieg. Im Wirtschaftswunder war Gelsenkirchen voller Kohle\, die Bahnhofsstrasse einer der umsatzstärksten in ganz Deutschland – Geschichte. Heute haben auch die „Ruhrpott“-T-shirt tragenden Typen höchstens noch Eltern\, die im Bergbau malochten und Kohle ist Mangelware in der einkommensschwächsten Stadt Deutschlands. Zeit über Kohle zu reden –  in alle Richtungen. Werfen wir mit Kultur und ihrer Förderung die Kohle aus dem Fenster\, bleiben Rendite abstrakte Kategorien und wie schaffen wir es\, die Kohlen aus dem Feuer zu holen? \nEine kollektive Performance zwischen zwischen Beerdigungs- und Demonstrationszug: wir bauen einen sehr grossen Kohleklumpen und tragen ihn durch die Strasse(n). \nInteressierte sind eingeladen\, im Vorfeld im Open Studio GeOrgel bei der Produktion des Kohleklumpens mitzuwirken. \n  \nCamilo Pachón (*1985 in Bogotá) ist ein multidisziplinär arbeitender Künstler\, der die rituellen\, politischen\, spirituellen und transformativen Dimensionen der Maske als allgegenwärtiges kulturelles Artefakt untersucht. mehr \nCamilo war Stipendiat von Urbane Künste Ruhr im Healing Complex in GE-Erle 2024. \n  \nEine frühere Aktion von Camilo im Zusammenhang mit Kohle: \nThe Walking Mountain Collective performance on the physical and spiritual impacts of increased Colombian coal imports into Germany. Cologne\, Germany\, 2023.
URL:https://georgel.me/veranstaltung/the-walking-mountain/
CATEGORIES:Intervention,offenes Atelier,Performance,Spielen
ATTACH;FMTTYPE=image/jpeg:https://georgel.me/wp-content/uploads/2025/07/Pachon_WalkingMountain.jpg
END:VEVENT
BEGIN:VEVENT
DTSTART;TZID=Europe/Berlin:20250920T170000
DTEND;TZID=Europe/Berlin:20250920T190000
DTSTAMP:20260419T235634
CREATED:20250715T061323Z
LAST-MODIFIED:20250715T061323Z
UID:2664-1758387600-1758394800@georgel.me
SUMMARY:Camping ensemble: the great dictator (@kalte Halle)
DESCRIPTION:„Camping ensemble“ ist eine 12-Kanal-Klang- & Lichtinstallation von Stefan Demming\, die Filme in eine elektronische Komposition umsetzt. \nIn der „kalten Halle“ wird  dafür Charlie Chaplins Film „The great dictator“ als steuerndes Ausgangsmaterial gewählt. \nDer auf 12 Pixel skalierte Film steuert dabei Helligkeit und Lautstärke von 12 blauen Campingzelten\, die jeweils mit einem anderen Sinuston belegt sind. Wird ein Pixel hell erleuchtet\, so wird die Lautstärke zugleich erhöht. \n  \n\nWebsite Stefan Demming \n\n\n\nCamping Ensemble 2.0 (AT) \n12 Zelte\, 12 Lampen\, 12-Kanal-Audio\, Lichtsteuerungen\, 1 Computer\, individuelle Software; Maße variabel\, mindestens 500 x 600 x 100 cm \n\n\n\nCamping Ensemble 2.0 (AT) ist eine skulpturale Licht- und Klanginstallation\, aus Bewegtbildern die aus Filmen eine generative Komposition erstellt. Zwölf Zelte enthalten jeweils eine Lampe\, die die wechselnde Helligkeit der einzelnen Pixel eines auf 12 Pixel skalierten Films wiedergibt. Parallel zum Licht wird in jedem Zelt ein anderer Sinuston abgespielt\, dessen Lautstärke an die Lichtmenge gekoppelt ist.\nDa die Sinustöne in einer Reihe verbundener Frequenzen stehen\, entsteht eine harmonische\, polyphone Komposition. Die Installation wird zu einer visuellen\, abstrakten Orgel\, die von einem Film gespielt wird. \nDie Arbeit ist die Weiterentwicklung eines früheren Aufbaus hin zur öffentlichen Vorführung ausgewählter Filmen für ausgewählte Orte.\nZudem wird die 12-Kanal-Audio-Installation weiterentwickelt: \n\n–  als Instrument\, das von eingeladenen Musiker:innen bespielt werden kann\n–  für Raum-Licht-Konzerte an Kulturorten\, im Öffentlichen Raum in unterschiedlichenFormationen und an besonderen Orten wie bspw Parks und Halden
URL:https://georgel.me/veranstaltung/camping-ensemble20-9/
LOCATION:Kalte Halle\, hinterm Hier ist nicht da (Hind)
CATEGORIES:Ausstellung,Spielen
ATTACH;FMTTYPE=image/jpeg:https://georgel.me/wp-content/uploads/2025/07/0906CampingEnsemble_8774-scaled.jpg
END:VEVENT
END:VCALENDAR