BEGIN:VCALENDAR
VERSION:2.0
PRODID:-//St.GeOrgel - ECPv6.15.11//NONSGML v1.0//EN
CALSCALE:GREGORIAN
METHOD:PUBLISH
X-WR-CALNAME:St.GeOrgel
X-ORIGINAL-URL:https://georgel.me
X-WR-CALDESC:Veranstaltungen für St.GeOrgel
REFRESH-INTERVAL;VALUE=DURATION:PT1H
X-Robots-Tag:noindex
X-PUBLISHED-TTL:PT1H
BEGIN:VTIMEZONE
TZID:Europe/Berlin
BEGIN:DAYLIGHT
TZOFFSETFROM:+0100
TZOFFSETTO:+0200
TZNAME:CEST
DTSTART:20240331T010000
END:DAYLIGHT
BEGIN:STANDARD
TZOFFSETFROM:+0200
TZOFFSETTO:+0100
TZNAME:CET
DTSTART:20241027T010000
END:STANDARD
BEGIN:DAYLIGHT
TZOFFSETFROM:+0100
TZOFFSETTO:+0200
TZNAME:CEST
DTSTART:20250330T010000
END:DAYLIGHT
BEGIN:STANDARD
TZOFFSETFROM:+0200
TZOFFSETTO:+0100
TZNAME:CET
DTSTART:20251026T010000
END:STANDARD
BEGIN:DAYLIGHT
TZOFFSETFROM:+0100
TZOFFSETTO:+0200
TZNAME:CEST
DTSTART:20260329T010000
END:DAYLIGHT
BEGIN:STANDARD
TZOFFSETFROM:+0200
TZOFFSETTO:+0100
TZNAME:CET
DTSTART:20261025T010000
END:STANDARD
END:VTIMEZONE
BEGIN:VEVENT
DTSTART;TZID=Europe/Berlin:20250808T160000
DTEND;TZID=Europe/Berlin:20250808T220000
DTSTAMP:20260420T012847
CREATED:20250710T130558Z
LAST-MODIFIED:20250710T130836Z
UID:2588-1754668800-1754690400@georgel.me
SUMMARY:Marc Heun & Der Peter (DJ-Set / BjN)
DESCRIPTION:Wir freuen uns auf ein DJ-Set von \nMarc Heun & Der Peter\nam Fr. 8.8. \, 16-22 Uhr. \nDie ehemaligen Betreiber des PHONO (im 107) legen strictly VINYL auf. \nMehr \n \n  \n  \n  \n\n  \nhttps://on.soundcloud.com/LUqte9j2CpYxR4aK9
URL:https://georgel.me/veranstaltung/marc-heun-der-peter/
CATEGORIES:DJ Set,offenes Atelier,Spielen
ATTACH;FMTTYPE=image/jpeg:https://georgel.me/wp-content/uploads/2025/07/Bild-10.07.25-um-15.03.jpg
END:VEVENT
BEGIN:VEVENT
DTSTART;TZID=Europe/Berlin:20250809T160000
DTEND;TZID=Europe/Berlin:20250809T190000
DTSTAMP:20260420T012847
CREATED:20250709T155129Z
LAST-MODIFIED:20250713T211724Z
UID:2584-1754755200-1754766000@georgel.me
SUMMARY:SCHAUSTELLE #03 - Care Bears & Drehorgel de luxe
DESCRIPTION:am Samstag\, den 9.8. ab 16 Uhr vor dem Justizzentrum an der Baustelle an der Bochumerstrasse\, GE \nab 16 Uhr (bis ca 17:30 Uhr) Besuch von den Care Bears (Bo) entlang der Bochumstr. zwischen GeOrgel/ U Stephanstr. und Justizzentrum \nab 16:30 Uhr (bis ca 18:30 Uhr) : Drehorgel de luxe am Justizzentrum \ndavor/danach: Rahmenprogramm von S. Demming (wahlweise DJ Grammophon\, Aufblasblumen\, Sitzsäcke o.a.) \n-> mehr zum Programm SCHAUSTELLE\nDetails zu SCHAUSTELLE#03: \n  \n\n  \n 
URL:https://georgel.me/veranstaltung/schaus03/
CATEGORIES:Intervention,Performance,Spielen
ATTACH;FMTTYPE=image/webp:https://georgel.me/wp-content/uploads/2025/07/carebears.webp
END:VEVENT
BEGIN:VEVENT
DTSTART;TZID=Europe/Berlin:20250814T160000
DTEND;TZID=Europe/Berlin:20250814T190000
DTSTAMP:20260420T012847
CREATED:20250713T204932Z
LAST-MODIFIED:20250814T101017Z
UID:2599-1755187200-1755198000@georgel.me
SUMMARY:SCHAUSTELLE #04 - Rutkova Kandinsky "Hamsters don‘t cry" & Drehorgel de luxe & Pantonella
DESCRIPTION:am Donnerstag\, den 14.8. ab 16 Uhr vor dem Justizzentrum an der Baustelle an der Bochumerstrasse\, GE \nab 16 Uhr (bis ca 17 Uhr) Rutkova Kandinsky\n„Hamsters don‘t cry“ (Performance) \nab 17 Uhr (bis ca 18:30 Uhr) : Drehorgel de luxe  & PANTONELLA (Riesenseifenblasen) \ndavor/danach: Rahmenprogramm von S. Demming (wahlweise DJ Grammophon\, Aufblasblumen\, Sitzsäcke o.a.) \n-> mehr zum Programm SCHAUSTELLE\nDetails zu SCHAUSTELLE#04: \nHamsters don‘t cry\nStein um Stein wird maschinell und unter Einsatz von Lebenszeit die Bochumer Straße umgewandelt. Wie verhält sich der Mensch in Bezug auf entfremdete Arbeitsbedingungen und auf das Versprechen eines besseren Lebens?\nWir marschieren mit von 16:00 bis 17:30.\nKeine Atempause\, Geschichte wird gemacht. \n  \n\n			\n				\n			\n			\n				\n			\n			\n				\n			\n			\n				\n			\n			\n				\n			\n			\n				\n			\n				\n				Ansprache des Walking Bus\n				\n			\n				\n			\n				\n				Pantonella\n				\n			\n				\n			\n		\n\n 
URL:https://georgel.me/veranstaltung/schaus03-2/
CATEGORIES:Intervention,Performance,Spielen
ATTACH;FMTTYPE=image/jpeg:https://georgel.me/wp-content/uploads/2025/07/04_2503StefsI_7792_Schaustelle04.jpg
END:VEVENT
BEGIN:VEVENT
DTSTART;TZID=Europe/Berlin:20250829T200000
DTEND;TZID=Europe/Berlin:20250829T220000
DTSTAMP:20260420T012848
CREATED:20250724T151321Z
LAST-MODIFIED:20250812T130951Z
UID:2707-1756497600-1756504800@georgel.me
SUMMARY:SALON#06 (BjN) -  mit DOMINIK REICHMANN & Joana Stanetzka & Serge Corteyn
DESCRIPTION:Kleine Bühnenshow mit 2-3 eher kürzeren Darbietungen unterschiedlicher Art: lassen Sie sich überraschen! \nspecial guest \nDOMINIK REICHMANN – der Sänger von Lichtmaschine unplugged mit Soloprogramm. \nJoana Stanetzka\, Schauspielerin (Bo) \nSerge Cortey\, Gitarrist \n\n  \nDas Programm\, zu dem sich alle Menschen sehr gerne bewerben können\, beginnt in der Regel um 20:00 Uhr. Die Programmgestaltung und -auswahl erfolgt in Zusammenarbeit mit Serge Corteyn (The Dorf). \nDie einzelnen Beiträge dauern in der Regel 20-30 Minuten\, beinhalten Musik (von Songwriter- bis experimentell). \nDer Salon findet statt im Rahmen von Bar jeden Nutzens im GeOrgel – für eine offene Gesellschaft\, Vernetzung im kleinen und den großen\, immer freitags 17 bis 21:00 Uhr.
URL:https://georgel.me/veranstaltung/salon06_reichmann/
CATEGORIES:Konzert,offenes Atelier,Spielen
ATTACH;FMTTYPE=image/jpeg:https://georgel.me/wp-content/uploads/2024/09/2409SG_Lichtmasch2840wb.jpg
END:VEVENT
END:VCALENDAR