BEGIN:VCALENDAR
VERSION:2.0
PRODID:-//St.GeOrgel - ECPv6.15.11//NONSGML v1.0//EN
CALSCALE:GREGORIAN
METHOD:PUBLISH
X-ORIGINAL-URL:https://georgel.me
X-WR-CALDESC:Veranstaltungen für St.GeOrgel
REFRESH-INTERVAL;VALUE=DURATION:PT1H
X-Robots-Tag:noindex
X-PUBLISHED-TTL:PT1H
BEGIN:VTIMEZONE
TZID:Europe/Berlin
BEGIN:DAYLIGHT
TZOFFSETFROM:+0100
TZOFFSETTO:+0200
TZNAME:CEST
DTSTART:20240331T010000
END:DAYLIGHT
BEGIN:STANDARD
TZOFFSETFROM:+0200
TZOFFSETTO:+0100
TZNAME:CET
DTSTART:20241027T010000
END:STANDARD
BEGIN:DAYLIGHT
TZOFFSETFROM:+0100
TZOFFSETTO:+0200
TZNAME:CEST
DTSTART:20250330T010000
END:DAYLIGHT
BEGIN:STANDARD
TZOFFSETFROM:+0200
TZOFFSETTO:+0100
TZNAME:CET
DTSTART:20251026T010000
END:STANDARD
BEGIN:DAYLIGHT
TZOFFSETFROM:+0100
TZOFFSETTO:+0200
TZNAME:CEST
DTSTART:20260329T010000
END:DAYLIGHT
BEGIN:STANDARD
TZOFFSETFROM:+0200
TZOFFSETTO:+0100
TZNAME:CET
DTSTART:20261025T010000
END:STANDARD
END:VTIMEZONE
BEGIN:VEVENT
DTSTART;TZID=Europe/Berlin:20250703T173000
DTEND;TZID=Europe/Berlin:20250703T190000
DTSTAMP:20260420T025933
CREATED:20250515T102600Z
LAST-MODIFIED:20250623T133849Z
UID:2490-1751563800-1751569200@georgel.me
SUMMARY:QWATSCH
DESCRIPTION:Ab jetzt immer donnerstags 17:30 Uhr bis 19:00 Uhr: Kontakte knüpfen\, Deutsch üben. Unterstützung bei Jobsuche und Sozialberatung.\nFür eine lebenswerte Nachbarschaft und mehr Integration möchten wir Menschen zusammenbringen\, ihr seid herzlich eingeladen!
URL:https://georgel.me/veranstaltung/qwatsch/
CATEGORIES:Lernen,offenes Atelier,Spielen
END:VEVENT
BEGIN:VEVENT
DTSTART;TZID=Europe/Berlin:20250704T170000
DTEND;TZID=Europe/Berlin:20250704T210000
DTSTAMP:20260420T025933
CREATED:20250515T103717Z
LAST-MODIFIED:20250515T103728Z
UID:2504-1751648400-1751662800@georgel.me
SUMMARY:BarJedenNutzens (BjN)- Juli
DESCRIPTION:Heute / Freitags ist das GeOrgel mit den Klangschubladen unter dem Motto Bar Jeden Nutzens von 17-21 Uhr geöffnet und offen für Sinnvolles – und Unsinniges!
URL:https://georgel.me/veranstaltung/bjn-789/
CATEGORIES:offenes Atelier,Spielen
END:VEVENT
BEGIN:VEVENT
DTSTART;TZID=Europe/Berlin:20250704T200000
DTEND;TZID=Europe/Berlin:20250704T220000
DTSTAMP:20260420T025933
CREATED:20250515T102432Z
LAST-MODIFIED:20250623T152619Z
UID:2487-1751659200-1751666400@georgel.me
SUMMARY:Oversexed AND underfucked?!
DESCRIPTION:Im öffentlichen und im digitalen Raum ist die Begegnung mit sexuell aufgeladenen Bildern und Anspielungen nahezu unausweichlich. Sie fördern und befördern Lust und Verlangen – oder zumindest bestimmte Ideen davon. Aber was soll das sein\, Sex? Wo fängt er an? Was sind die Grenzen des „Normalen“ und werden diese immer enger? \nLass‘ uns reden: erkundend\, gängigen Vorannahmen und Klischees auf die Schliche kommen. \nEin Gesprächsabend von und mit Diana Miebach (Gelsenkirchen). Sie ist Sexualtherapeutin und interessiert sich für die Verbindung von Medizinischem und der eigener Schaffenskraft. \nHierzu drei essentielle Zutaten: Nahrung\, Musik und Bewegunglichkeit. Sexualität ist für sie der „Zimt des Ganzen“.
URL:https://georgel.me/veranstaltung/oversexed-and-underfucked/
CATEGORIES:Dikussion,Lesung,Workshop
ATTACH;FMTTYPE=image/jpeg:https://georgel.me/wp-content/uploads/2025/05/DianaMiebach.jpg
END:VEVENT
BEGIN:VEVENT
DTSTART;TZID=Europe/Berlin:20250710T173000
DTEND;TZID=Europe/Berlin:20250710T190000
DTSTAMP:20260420T025933
CREATED:20250515T102645Z
LAST-MODIFIED:20250525T125503Z
UID:2493-1752168600-1752174000@georgel.me
SUMMARY:QWATSCH#03
DESCRIPTION:Ab jetzt immer donnerstags 17:30 Uhr bis 19:00 Uhr: Kontakte knüpfen\, Deutsch üben. Unterstützung bei Jobsuche und Sozialberatung.\nFür eine lebenswerte Nachbarschaft und mehr Integration möchten wir Menschen zusammenbringen\, ihr seid herzlich eingeladen!
URL:https://georgel.me/veranstaltung/qwatsch03/
CATEGORIES:Lernen,offenes Atelier,Spielen
END:VEVENT
BEGIN:VEVENT
DTSTART;TZID=Europe/Berlin:20250711T170000
DTEND;TZID=Europe/Berlin:20250711T210000
DTSTAMP:20260420T025933
CREATED:20250515T103823Z
LAST-MODIFIED:20250515T103823Z
UID:2506-1752253200-1752267600@georgel.me
SUMMARY:BarJedenNutzens (BjN)- Juli2
DESCRIPTION:Heute / Freitags ist das GeOrgel mit den Klangschubladen unter dem Motto Bar Jeden Nutzens von 17-21 Uhr geöffnet und offen für Sinnvolles – und Unsinniges!
URL:https://georgel.me/veranstaltung/barjedennutzens10/
CATEGORIES:offenes Atelier,Spielen
END:VEVENT
BEGIN:VEVENT
DTSTART;TZID=Europe/Berlin:20250717T173000
DTEND;TZID=Europe/Berlin:20250717T190000
DTSTAMP:20260420T025933
CREATED:20250515T102714Z
LAST-MODIFIED:20250603T220527Z
UID:2495-1752773400-1752778800@georgel.me
SUMMARY:QWATSCH#04
DESCRIPTION:Ab jetzt immer donnerstags 17:30 Uhr bis 19:00 Uhr: Kontakte knüpfen\, Deutsch üben. Unterstützung bei Jobsuche und Sozialberatung.\nFür eine lebenswerte Nachbarschaft und mehr Integration möchten wir Menschen zusammenbringen\, ihr seid herzlich eingeladen!
URL:https://georgel.me/veranstaltung/qwatsch04/
CATEGORIES:Lernen,offenes Atelier,Spielen
END:VEVENT
BEGIN:VEVENT
DTSTART;TZID=Europe/Berlin:20250718T170000
DTEND;TZID=Europe/Berlin:20250718T210000
DTSTAMP:20260420T025933
CREATED:20250515T103905Z
LAST-MODIFIED:20250518T100540Z
UID:2508-1752858000-1752872400@georgel.me
SUMMARY:BarJedenNutzens (BjN)- heute REPAIR&SHARE-KULTUREN ab 18 Uhr
DESCRIPTION:Heute im Rahmen von Bar Jeden Nutzens REPAIRKULTUREN
URL:https://georgel.me/veranstaltung/bar3/
CATEGORIES:offenes Atelier,Spielen
END:VEVENT
BEGIN:VEVENT
DTSTART;TZID=Europe/Berlin:20250718T180000
DTEND;TZID=Europe/Berlin:20250718T210000
DTSTAMP:20260420T025933
CREATED:20250515T103411Z
LAST-MODIFIED:20250710T102235Z
UID:2500-1752861600-1752872400@georgel.me
SUMMARY:Repair&Share-Kulturen
DESCRIPTION:Repair and Share Ruhr und das atelier automatique aus Bochum stellen verschiedene Nachhaltigkeitsprojekte vor. Dabei geht es um RepairKultur und das Ressourcen schonende Teilen und Nutzen von Dingen.Josefine Habermehl und Kathlina Reinhardt vom atelier automatique  stellen vor\, was sie im Kollektiv dafür schon erreicht haben und zeigen dabei auch Kurzfilme (FIX IT!). \nressourcerie automatique \nDie ressourcerie automatique vernetzt all die Keller und Dachböden\, die Garagen und Abstellkammern der freien Szene miteinander. Dort liegen ungenutzte Produktionsteile\, Requisiten\, Kostüme und vieles mehr aus vielen Tagen der künstlerischen Arbeit. Innerhalb der ressourcerie kann jeder Mensch\, Verein\, jedes Kollektiv oder jede Gruppe ihren eigenen Katalog anlegen und all diese Dinge zum Vermieten oder Verleihen anbieten. \nBevor wir neu kaufen\, schauen wir doch erstmal was es schon gibt … \nRepair & Share Ruhr\nDie Frage “Wegschmeißen oder reparieren?” ist allgegenwärtig. Während die Entscheidung für das Wegwerfen den Müllberg weiter anwachsen lässt\, setzt das Reparieren ein Zeichen für die Nachhaltigkeit. Das Transferprojekt Repair & Share Ruhr – Allianz für mehr Gemeinwohl fördert die Kultur des Reparierens und Teilens. Konkret bedeutet dies: Repair & Share Ruhr vernetzt Repair- und Sharing-Initiativen der Metropole Ruhr miteinander\, regt neue Projekte an und unterstützt diese. \nVorgestellt wird dabei auch die Kurzfilmreihe „FIX IT! – Geschichten aus der Repairkultur“  \nEs bestehen Möglichkeiten\, sich diesen anzuschließen oder Ähnliches im Quartier zu entwickeln. Das Projekt EinLaden im GeOrgel möchte dies aktiv fördern. \nMehr Infos s.u. \n \nRepair & Share Ruhr – Allianz für mehr Gemeinwohl ist ein Projekt der Hochschule Bochum\, welches eingebettet ist in das Transformationsprojekt THALESruhr. Ziel der Allianz Repair & Share Ruhr ist der Aufbau eines regionalen Netzwerkes gemeinnütziger Repair- und Sharing-Initiativen wie Repaircafés und Leihläden. Vorhandene Initiativen sollen gestärkt und neue Projekte angeregt und unterstützt werden. Neben Netzwerkveranstaltungen\, öffentlichen Events und Vermittlungsangeboten\, haben wir es uns zur Aufgabe gemacht Informationen zu den Themen Reparaturkultur und Share-Economy im Ruhrgebiet auf unserer Homepage zu bündeln. \nFIX IT – Geschichten aus der Repairkultur ist eine Kurzfilmreihe\, die von den Studierenden Sabrina Peters\, Josefine Schlohbom und Awa Winkel der Projektstudie „Repairkultur“ produziert wurde. Das Repairkultur-Projekt unterstützt die Befähigung von Menschen zum Reparieren und damit eine gesellschaftliche Entwicklung weg von der „Wegwerfmoral“ hin zu einer nachhaltigkeitsbewussteren Lebensweise. An dieser Stelle setzt das Projekt Repairkultur an und hilft Menschen dabei\, sich das nötige Wissen zum Reparieren anzueignen und zu motivieren\, den eigenen Lebensstil und Konsum nachhaltiger zu gestalten. Geleitet wird die Projektstudie von Jacinta Kellermann. \nDie ressourcerie automatique vernetzt all die Keller und Dachböden\, die Garagen und Abstellkammern der freien Szene miteinander. Dort liegen ungenutzte Produktionsteile\, Requisiten\, Kostüme und vieles mehr aus vielen Tagen der künstlerischen Arbeit. Innerhalb der ressourcerie kann jeder Mensch\, Verein\, jedes Kollektiv oder jede Gruppe ihren eigenen Katalog anlegen und all diese Dinge zum Vermieten oder Verleihen anbieten. \nBevor wir neu kaufen\, schauen wir doch erstmal was es schon gibt: Willkommen in der ressourcerie! Die ressourcerie ist ein Projekt des atelier automatique\, einem selbstorganisierten Ort für Kunstproduktion und Kulturveranstaltungen in Bochum. Getragen wird das Atelier von dem gemeinnützigen Verein „Gemeinschaft zur Förderung und Vernetzung der freien Künste Bochums e.V.. \n 
URL:https://georgel.me/veranstaltung/2500/
LOCATION:St. GeOrgel
CATEGORIES:Dikussion,Lernen,Lesung,offenes Atelier
ATTACH;FMTTYPE=image/jpeg:https://georgel.me/wp-content/uploads/2025/05/2507RepairShare_Plakat-A3wb-scaled.jpg
END:VEVENT
BEGIN:VEVENT
DTSTART;TZID=Europe/Berlin:20250719T160000
DTEND;TZID=Europe/Berlin:20250719T190000
DTSTAMP:20260420T025933
CREATED:20250707T224444Z
LAST-MODIFIED:20250714T144131Z
UID:2566-1752940800-1752951600@georgel.me
SUMMARY:SCHAUSTELLE @Bochumerstr. - mit Markus Kiefer / G. Menger\, Pantonella und
DESCRIPTION:am Samstag\, den 19.7. ab 16 Uhr an der Baustelle an der Bochumerstrasse\, vor dem Justizzentrum/am Platz der Heinze-Frauen / am WiPa\, GE \nab 16 Uhr: Riesenseifenblasen von Pantonella \n17-18 Uhr: „Vermessung des Nichts“ – Performance von Markus Kiefer in Anlehnung an Joseph Beuys (R.I.P.)\, musikalische Begleitung: Günther Menger (Waterphone) mit Szenen des Stücks der Hut und der Mensch \ndavor/danach: Rahmenprogramm von S. Demming (wahlweise DJ Grammophon\, Aufblasblumen\, Sitzsäcke o.a.) \n-> mehr zum Programm SCHAUSTELLE\nDetails zu SCHAUSTELLE#01 am 19.7. \nab 16 Uhr: Riesenseifenblasen von Pantonella \n„Pantonella“ist als Kontaktclown in Seniorenheimen\, als Walking Act auf Straßenfesten und als Seifenblasenkünstlerin unterwegs\, um Freude und Leichtigkeit zu verbreiten. In unserer schnelllebigen und oft überwältigenden Zeit möchte sie mit ihren kleinen und großen Seifenblasen eine einfache achtsame Pause bieten\, ermutigen langsamer zu werden\, durchzuatmen\, zu lächeln und den Moment im Hier und Jetzt zu genießen. Seifenblasen machen Menschen glücklich und die Welt einen Augenblick bunter und friedlicher… (Foto s.u.) \n17-18 Uhr: „Vermessung des Nichts“ \nDie Performance von Markus Kiefer ist ein Remix bzw. eine Neuinterpretation von Szenen des Stücks der Hut und der Mensch. In Anlehnung an Joseph Beuys kreisen Kiefers Handlungen um die wörtlich interpretierte „Vermessung des Nichts“ – mit einem Zollstock im öffentlichen Raum. Wie lässt sich das „Nichts“ erkennen\, benennen oder gar bemessen? Der absurde Versuch\, hier mit Genauigkeit vorzugehen endet im absurden Tanz um die „Besucher:innen“\, in diesem Fall den zufällig gemixten aber in regelmässigen Abständen von der Strassenbahn vorbeigespülten „walking bus“ von Menschen aus der Stadt… Musikalische Begleitung: Günther Menger (Waterphone) \n  \nDie Performance ist kein „Stück“ im klassischen Sinn\, sondern ein ephemerer Akt der Wahrnehmungserweiterung – eine Hommage an Beuys’ Idee\, dass Kunst ein Prozess des Denkens\, Hörens und sozialen Austauschs ist. Die „Vermessung des Nichts“ ist paradox: sie zeigt\, dass das Nichts voller potenzieller Bedeutung ist – ein Raum\, der gehört werden will. Die Performance transformiert die Baustelle – Symbol des Werdens\, der Gewalt\, der Materie – in ein akustisches Labor für das Nichts als Idee. Beuys verstand das Nichts nie als Leere\, sondern als eine formbare Möglichkeit\, als Ursprung. Hier wird es gehört\, gespürt\, befragt – mit Werkzeugen des Bauens – im Dienst des Denkens.(M. Kiefer) \n  \n  \n \n  \n 
URL:https://georgel.me/veranstaltung/schaustelle01/
CATEGORIES:Intervention,Performance,Spielen
ATTACH;FMTTYPE=image/jpeg:https://georgel.me/wp-content/uploads/2024/06/2409SG_MKiefer02790wb.jpg
END:VEVENT
BEGIN:VEVENT
DTSTART;TZID=Europe/Berlin:20250725T200000
DTEND;TZID=Europe/Berlin:20250725T220000
DTSTAMP:20260420T025933
CREATED:20250525T120055Z
LAST-MODIFIED:20250722T145453Z
UID:2523-1753473600-1753480800@georgel.me
SUMMARY:SALON#05 (BjN) -  mit Qin Tang & tba
DESCRIPTION:Kleine Bühnenshow mit 2-3 eher kürzeren Darbietungen unterschiedlicher Art: lassen Sie sich überraschen! \nspecial guest \nQIN TANG spielt chinesische Harfe … \n+ TBA…. \n\n  \nDas Programm\, zu dem sich alle Menschen sehr gerne bewerben können\, beginnt in der Regel um 20:00 Uhr. Die Programmgestaltung und -auswahl erfolgt in Zusammenarbeit mit Serge Corteyn (The Dorf). \nDie einzelnen Beiträge dauern in der Regel 20-30 Minuten\, beinhalten Musik (von Songwriter- bis experimentell). \nDer Salon findet statt im Rahmen von Bar jeden Nutzens im GeOrgel – für eine offene Gesellschaft\, Vernetzung im kleinen und den großen\, immer freitags 17 bis 21:00 Uhr.
URL:https://georgel.me/veranstaltung/salon04-bjn-tba/
CATEGORIES:Konzert,offenes Atelier,Spielen
ATTACH;FMTTYPE=image/jpeg:https://georgel.me/wp-content/uploads/2025/05/2405SG_QinTang1998wbqu.jpg
END:VEVENT
BEGIN:VEVENT
DTSTART;TZID=Europe/Berlin:20250726T160000
DTEND;TZID=Europe/Berlin:20250726T190000
DTSTAMP:20260420T025933
CREATED:20250709T153140Z
LAST-MODIFIED:20250723T103407Z
UID:2577-1753545600-1753556400@georgel.me
SUMMARY:SCHAUSTELLE #02 - Bauchtanz mit Verahzad & Jibel Jay
DESCRIPTION:am Samstag\, den 26.7. ab 16 Uhr gegenüber vom Justizzentrum an der Baustelle an der Bochumerstrasse und am „Platz der Heinze Frauen“\, GE \n16 // 18 Uhr: Jibel Jay\, Beatboxing \n \n17-19 Uhr: \nVerahzad – Oriental Dreams – Bauchtanz\ndavor/danach: Rahmenprogramm von S. Demming (wahlweise DJ Grammophon\, Aufblasblumen\, Sitzsäcke o.a.) \n-> mehr zum Programm SCHAUSTELLE\nDetails zu SCHAUSTELLE#02 am 26.7.: \n-> Bauchtanz ist der wohl gebräuchlichste Begriff für einen immer noch umstrittenen Tanzstil aus dem Orient. Von hochangesehenen Tänzerinnen bis zur verkappten Striptease-Tänzerin im Bauchtanzkostüm ist so ziemlich jedes Klischee weltweit vertreten. Frauen und Männer haben sich aus den unterschiedlichsten Gründen dem Orientalischen Tanz verschrieben… mehr
URL:https://georgel.me/veranstaltung/schaus02/
CATEGORIES:Intervention,Performance,Spielen
ATTACH;FMTTYPE=image/jpeg:https://georgel.me/wp-content/uploads/2025/07/2507SchauBauchtanzVera-01.jpeg
END:VEVENT
END:VCALENDAR