BEGIN:VCALENDAR
VERSION:2.0
PRODID:-//St.GeOrgel - ECPv6.15.11//NONSGML v1.0//EN
CALSCALE:GREGORIAN
METHOD:PUBLISH
X-WR-CALNAME:St.GeOrgel
X-ORIGINAL-URL:https://georgel.me
X-WR-CALDESC:Veranstaltungen für St.GeOrgel
REFRESH-INTERVAL;VALUE=DURATION:PT1H
X-Robots-Tag:noindex
X-PUBLISHED-TTL:PT1H
BEGIN:VTIMEZONE
TZID:Europe/Berlin
BEGIN:DAYLIGHT
TZOFFSETFROM:+0100
TZOFFSETTO:+0200
TZNAME:CEST
DTSTART:20240331T010000
END:DAYLIGHT
BEGIN:STANDARD
TZOFFSETFROM:+0200
TZOFFSETTO:+0100
TZNAME:CET
DTSTART:20241027T010000
END:STANDARD
BEGIN:DAYLIGHT
TZOFFSETFROM:+0100
TZOFFSETTO:+0200
TZNAME:CEST
DTSTART:20250330T010000
END:DAYLIGHT
BEGIN:STANDARD
TZOFFSETFROM:+0200
TZOFFSETTO:+0100
TZNAME:CET
DTSTART:20251026T010000
END:STANDARD
BEGIN:DAYLIGHT
TZOFFSETFROM:+0100
TZOFFSETTO:+0200
TZNAME:CEST
DTSTART:20260329T010000
END:DAYLIGHT
BEGIN:STANDARD
TZOFFSETFROM:+0200
TZOFFSETTO:+0100
TZNAME:CET
DTSTART:20261025T010000
END:STANDARD
END:VTIMEZONE
BEGIN:VEVENT
DTSTART;TZID=Europe/Berlin:20250606T170000
DTEND;TZID=Europe/Berlin:20250606T210000
DTSTAMP:20260420T044409
CREATED:20250414T135821Z
LAST-MODIFIED:20250414T140330Z
UID:2453-1749229200-1749243600@georgel.me
SUMMARY:BarJedenNutzens (BjN)
DESCRIPTION:Heute / Freitags ist das GeOrgel mit den Klangschubladen unter dem Motto Bar Jeden Nutzens von 17-21 Uhr geöffnet und offen für Sinnvolles – und Unsinniges!
URL:https://georgel.me/veranstaltung/barjedennutzens-bjn-5/
CATEGORIES:offenes Atelier,Spielen
END:VEVENT
BEGIN:VEVENT
DTSTART;TZID=Europe/Berlin:20250606T200000
DTEND;TZID=Europe/Berlin:20250606T220000
DTSTAMP:20260420T044409
CREATED:20250515T103109Z
LAST-MODIFIED:20250523T081509Z
UID:2497-1749240000-1749247200@georgel.me
SUMMARY:FESTLAND -  live
DESCRIPTION:Wie klänge es\, wenn Disco statt auf Soul auf die Lieder von Franz Schubert träfe? Die Musik des Trios FESTLAND ist verwurzelt in den Beats & Sounds der Dj-Culture. Der dreistimmige Gesang der Band trifft auf Geige\, Kontrabass\, diverses Klangholz und analoge Elektronik. Sie benutzen die sich als Lyrik gebenden Texte des befreundeten Malers Fabian Weinecke.\nLet’s call it Krauthouse.\nFESTLAND sind:\nThomas Geier: Klangholz\, Glockenspiel & Gesang\nDDFM: Kontrabass\, Vocoder\, Moog & Gesang\nYoshino: Geige & Gesang\n\nWir sind ein Trio\, spielen akustisch und singen ohne Mikros in den Raum …\nfestland.bandcamp.com\nFestland hat sich 2004 gegründet. Das Trio vertont Texte des Malers Fabian Weinecke und\nnutzt dessen Malerei zur Covergestaltung. 2006 veröffentlichten Festland im Anschluss an\neine Vinyl-EP im gleichen Jahr auf Alfred Hilsbergs Label ZickZack Records das Debütalbum „An\neuren Fenstern wachsen Blumen“. 2010 folgte ebenfalls auf ZickZack das zweite Album „Welt\nverbrennt“\, das in der Wochenzeitung Die Zeit eine Nennung als bestes Pop-Album des Jahres\nerhielt. Auf Einladung des Goethe-Institutes spielte die Band anlässlich der Kulturhauptstadt\nEuropas RUHR.2010 als Vertreter der Stadt Essen in Paris. Es folgte eine Einladung des Goethe-\nInstitutes nach Kasachstan\, Kirgisien und Algerien. Nach dem Tod Fabian Weineckes 2012\nänderte Festland seine Instrumentierung und tritt seitdem akustisch auf. In diesem Stil\nerschien 2016 das Album „Winde weh’n“ und 2023 „Hippies“ auf ZickZack.\n\nFestland 01 Foto: ©Cornelis Gollhardt\n\n\n\nBandcamp:
URL:https://georgel.me/veranstaltung/festland-live/
CATEGORIES:Konzert
ATTACH;FMTTYPE=image/jpeg:https://georgel.me/wp-content/uploads/2025/05/FESTLAND.jpeg
END:VEVENT
BEGIN:VEVENT
DTSTART;TZID=Europe/Berlin:20250614T180000
DTEND;TZID=Europe/Berlin:20250614T180000
DTSTAMP:20260420T044409
CREATED:20250414T133538Z
LAST-MODIFIED:20250414T133727Z
UID:2435-1749924000-1749924000@georgel.me
SUMMARY:Gestatten\, Schulz (Konzert) & Branka Čolić (Performance)
DESCRIPTION:20 Uhr: Gestatten\, Schulz (Konzert: Gesang\, Gitarre) –  zu „Kommse Ücken?!“\n\n„Mein Yugo“ heißt ein Song der Bremer Band Gestatten\, Schulz. Die „Neue Welle“ erfasste Anfang der 80er auch das im Umbruch befindliche Jugoslawien\, und die Musik aus jener kurzen Epoche zwischen Titos Ende und den Kriegen mit dem Zerfall der jugoslawischen Republiken hat Sängerin Branka Colic (L) mit in die Band gebracht. \nAndreas Wolfinger (HB) \, bekannt als Gitarrist und Sänger der Trashmonkeys und die andere Hälfte von Gestatten\, Schulz\, steuert seine Berührungspunkte mit Wave und Punk bei. Zusammen ergibt das eine musikalisch gestenreiche\, vielsprachige Dramaturgie mit Texten in Deutsch\, Kroatisch und Französisch\, positioniert im Hier und Jetzt dessen\, was vom Diskurspop übrig geblieben\, diskussionswürdig und erneuerungswert ist. \nBesungen wird das Leben-Arbeits-Gleichgewicht\, die Selbstfindung einer Generation und natürlich das Thema\, welches die Popmusik dominiert: die Liebe und ihre gesamte Bandbreite. Dabei gibt Gestatten\, Schulz mit ihrem Hintersinn viele Gelegenheiten für ein Augenzwinkern. \n  \n18 Uhr: Branka Čolić: rithm_is a dancer (Performance mit Stimme und Sampler)\n„Ich laufe. Aber da ist keine Straße. Es sind Daten­auto­bahnen. Lauter Einsen und Nullen. Ich öffne mein Fenster (zur Welt?). Manche nenne es YouTube. Ich nenne es Welt.“ \nDer Titel besteht aus der zweiten Worthälfte von »Algorithmus«. Ausgangspunkt ist der Algorithmus von Instagram\, WhatsApp\, Facebook und YouTube auf unsere sprachlichen Codes\, sowie einen sich verändernden Begriff der Öffent­lichkeit.\nPer Zufall und mit Hilfe von generierten Algo­rithmen werden Text­fragmente u.a. aus den Posts in den sozialen Medien\, YouTube-Tutorials und Werbung\, entnommen. Dabei arbeite ich mit der Methode des Samplings\, die im Musikbereich weit verbreitet ist.  Der zweite teil des titels ist ein zitat aus einem Song der Band SNAP. \n  \nIm Anschluss: DJ Set von Andreas Wolfinger
URL:https://georgel.me/veranstaltung/gestatten-schulz-konzert-branka-colic-performance/
CATEGORIES:DJ Set,Konzert,Performance
ATTACH;FMTTYPE=image/jpeg:https://georgel.me/wp-content/uploads/2025/04/250614KUe_GestattenS.jpg
END:VEVENT
BEGIN:VEVENT
DTSTART;TZID=Europe/Berlin:20250620T180000
DTEND;TZID=Europe/Berlin:20250620T210000
DTSTAMP:20260420T044409
CREATED:20250416T100813Z
LAST-MODIFIED:20250905T063606Z
UID:2455-1750442400-1750453200@georgel.me
SUMMARY:BjN: DJ Chris Count
DESCRIPTION:DJ Chris Count aus der Nachbarschaft legt auf in der Bar Jeden Nutzens (BjN) – Menschen und Spendenbar geöffnet! \n 
URL:https://georgel.me/veranstaltung/bjn-dj-chris/
CATEGORIES:DJ Set,Spielen
END:VEVENT
BEGIN:VEVENT
DTSTART;TZID=Europe/Berlin:20250621T170000
DTEND;TZID=Europe/Berlin:20250621T230000
DTSTAMP:20260420T044409
CREATED:20250414T135123Z
LAST-MODIFIED:20250612T072857Z
UID:2443-1750525200-1750546800@georgel.me
SUMMARY:Fête de la musique: Handsome couple (E) & Karaoke
DESCRIPTION:Zum längsten Tag des Jahres und der Sommersonnenwende wird in Frankreich und mittlerweile vielen europäischen Städten seit Jahren die Fête de la musique gefeiert: live & draussen. \nWir LadenEin: \n17 Uhr Konzert: Handsome couple (E)\nSt. Kirchhoff – Banjo – und Simon Camatta – Drums. \nDie beiden Essener Musiker spielen instrumentalen Hip Hop Musik mit Banjo und Schlagzeug mit weiten Verzweigungen in alle Genres. Mit ihrem erweiterten Banjo und dem kleinen Schlagzeug treten sie überall wo es geht auf.  “Dies alles ist extrem chillig und tanzbar…Instrumentale Hip-Hop Musik in der richtigen Mischung von Kreativität und Kaputtheit”\, sagte die Westzeit\, als es sie noch gab.  \nlink1\, Simon Camatta \nab 18:30 Uhr: Karaoke mit der schöne Hermann …\nEure Mucke ins Micro\, Eure Moves auf der Bühne rustikale – alles\, was groovt\, funkt\, rockt oder sonderbar klingt\, darf gesungen werden! Schon der Mut zur Performance hat unseren Respekt!
URL:https://georgel.me/veranstaltung/fete/
CATEGORIES:Konzert,Performance
ATTACH;FMTTYPE=image/jpeg:https://georgel.me/wp-content/uploads/2025/04/2309AkA_HandsomoneCoupleFahrstuhl.jpg
END:VEVENT
BEGIN:VEVENT
DTSTART;TZID=Europe/Berlin:20250627T200000
DTEND;TZID=Europe/Berlin:20250627T220000
DTSTAMP:20260420T044409
CREATED:20250414T135341Z
LAST-MODIFIED:20250623T133211Z
UID:2448-1751054400-1751061600@georgel.me
SUMMARY:SALON#04 27.6.\, 20 Uhr SALON # 04: Koltermann - Seidel - Corteyn
DESCRIPTION:Kleine Bühnenshow mit 2-3 eher kürzeren Darbietungen unterschiedlicher Art: lassen Sie sich überraschen! \nspecial guests: \n27.6.\, 20 Uhr SALON # 04: Eckart Koltermann (Bassklarinette)\, Rupert Seidel (Schauspiel)\, Serge Corteyn (Gitarre\, Elektronik)\n\nSerge Corteyn und Eckard Koltermann treffen sich seit einem Jahr freitags zwischen 12 und 14.30 Uhr. Die meiste Zeit während dieser Proben reden sie über Musik. Oftmals spielen sie auch Musik. Keinem der beiden ist klar\, was sie da tun. Sie sind erstaunt über ihre Ergebnisse. Manchmal verlassen beide die Probe in Irritation. Manchmal verlassen beide die Probe in tiefem Glück.\nBeide haben sehr viel Erfahrung\, können aber spielen wie Kinder. Seltsam das?\nEckard Koltermann: Bassklarinette\, Saxophone\nSerge Corteyn: Elektronik\, Gitarre\, Gerümpel \n \nmit dabei: Rupert Seidel (Schauspiel) \n \n  \nRupert J. Seidl wurde am 24.08.1955 in Bonn geboren und ist Schauspieler. Er studierte von 1977-1980 an der Staatlichen Hochschule für Musik und darstellende Künste Stuttgart. Unter Claus Peymann war er von 1980-86 am Bochumer Schauspielhaus engagiert. 1986 gründete und leitete er zusammen mit P. Bierey und E. Koltermann das freie Theaterproduktionsnetzwerk „Sezession“. Bevor er ab 1990 Intendant des Schlosstheaters Moers wurde\, war er dort von 1988-1990 Leitender Dramaturg und Schauspieler. Von 1999 bis 2023 war er Ensemblemitglied des Theater an der Ruhr unter Roberto Ciulli. Gegenwärtig tanzt er freiberuflich auf vielen Hochzeiten. \n  \n–SALON: Das Programm\, zu dem sich alle Menschen sehr gerne bewerben können\, beginnt in der Regel um 20:00 Uhr. Die Programmgestaltung und -auswahl erfolgt in Zusammenarbeit mit Serge Corteyn (The Dorf). \nDie einzelnen Beiträge dauern in der Regel 20-30 Minuten\, beinhalten Musik (von Songwriter- bis experimentell). \nDer Salon findet statt im Rahmen von Bar jeden Nutzens im GeOrgel – für eine offene Gesellschaft\, Vernetzung im kleinen und den großen\, immer freitags 17 bis 21:00 Uhr.
URL:https://georgel.me/veranstaltung/salon04/
CATEGORIES:Konzert,offenes Atelier,Spielen
ATTACH;FMTTYPE=image/jpeg:https://georgel.me/wp-content/uploads/2025/04/2506Salon04_SergePosterWB.jpg
END:VEVENT
END:VCALENDAR