BEGIN:VCALENDAR
VERSION:2.0
PRODID:-//St.GeOrgel - ECPv6.15.11//NONSGML v1.0//EN
CALSCALE:GREGORIAN
METHOD:PUBLISH
X-ORIGINAL-URL:https://georgel.me
X-WR-CALDESC:Veranstaltungen für St.GeOrgel
REFRESH-INTERVAL;VALUE=DURATION:PT1H
X-Robots-Tag:noindex
X-PUBLISHED-TTL:PT1H
BEGIN:VTIMEZONE
TZID:Europe/Berlin
BEGIN:DAYLIGHT
TZOFFSETFROM:+0100
TZOFFSETTO:+0200
TZNAME:CEST
DTSTART:20230326T010000
END:DAYLIGHT
BEGIN:STANDARD
TZOFFSETFROM:+0200
TZOFFSETTO:+0100
TZNAME:CET
DTSTART:20231029T010000
END:STANDARD
BEGIN:DAYLIGHT
TZOFFSETFROM:+0100
TZOFFSETTO:+0200
TZNAME:CEST
DTSTART:20240331T010000
END:DAYLIGHT
BEGIN:STANDARD
TZOFFSETFROM:+0200
TZOFFSETTO:+0100
TZNAME:CET
DTSTART:20241027T010000
END:STANDARD
BEGIN:DAYLIGHT
TZOFFSETFROM:+0100
TZOFFSETTO:+0200
TZNAME:CEST
DTSTART:20250330T010000
END:DAYLIGHT
BEGIN:STANDARD
TZOFFSETFROM:+0200
TZOFFSETTO:+0100
TZNAME:CET
DTSTART:20251026T010000
END:STANDARD
END:VTIMEZONE
BEGIN:VEVENT
DTSTART;TZID=Europe/Berlin:20241108T170000
DTEND;TZID=Europe/Berlin:20241108T210000
DTSTAMP:20260422T211926
CREATED:20241105T203415Z
LAST-MODIFIED:20241106T222028Z
UID:2149-1731085200-1731099600@georgel.me
SUMMARY:Open Studio GeOrgel
DESCRIPTION:freitags 17-21\, a place to bastel: Studio GeOrgel ist ein Produktionsbüro und Veranstaltungsort\, ein offenes Atelier für alte und neue Medien; \nDie Klangschrankwand ist geöffnet und meistens auch der zweite Raum (Jam!).
URL:https://georgel.me/veranstaltung/open-studio-georgel/
CATEGORIES:offenes Atelier
END:VEVENT
BEGIN:VEVENT
DTSTART;TZID=Europe/Berlin:20241115T170000
DTEND;TZID=Europe/Berlin:20241115T210000
DTSTAMP:20260422T211926
CREATED:20241111T124816Z
LAST-MODIFIED:20241111T124816Z
UID:2163-1731690000-1731704400@georgel.me
SUMMARY:Open Studio GeOrgel
DESCRIPTION:freitags 17-21\, a place to bastel: Studio GeOrgel ist ein Produktionsbüro und Veranstaltungsort\, ein offenes Atelier für alte und neue Medien; \nDie Klangschrankwand ist geöffnet und meistens auch der zweite Raum (Jam!).
URL:https://georgel.me/veranstaltung/open-studio-georgel-3/
CATEGORIES:offenes Atelier
END:VEVENT
BEGIN:VEVENT
DTSTART;TZID=Europe/Berlin:20241116T160000
DTEND;TZID=Europe/Berlin:20241116T190000
DTSTAMP:20260422T211926
CREATED:20241115T094006Z
LAST-MODIFIED:20241115T094237Z
UID:2191-1731772800-1731783600@georgel.me
SUMMARY:Umkleidekabine
DESCRIPTION:Immer samstags\, 16 bis 19:00 Uhr holt Ruth Herberhold die guten alten Klamotten heraus und es darf gestöbert und anprobiert werden! Daraus entstehen (auf Verabredung) auch die Fotoshootings für Postkarten der Serie „Schöne Grüsse aus Gelsenkirchen!“ Die GeOrgel-installation ist geöffnet\, es gibt Tee und meistens Kuchen auf Spendenbasis. \nMehr zur Umkleidekabine
URL:https://georgel.me/veranstaltung/umkleidekabine/
CATEGORIES:offenes Atelier,Spielen
ATTACH;FMTTYPE=image/jpeg:https://georgel.me/wp-content/uploads/2024/04/2312GeOrgel80erSchoeneKarte024.jpg
END:VEVENT
BEGIN:VEVENT
DTSTART;TZID=Europe/Berlin:20241117T160000
DTEND;TZID=Europe/Berlin:20241117T190000
DTSTAMP:20260422T211926
CREATED:20241111T130322Z
LAST-MODIFIED:20241111T130330Z
UID:2166-1731859200-1731870000@georgel.me
SUMMARY:Panem et circenses - Spielenachmittag
DESCRIPTION:Die Gekrönte fordert heraus: im Angebot gibt es „oldschool“ Brettspiele mit Backgammon\, Scrabble\, Carcasonne\, Monopoly\, Doppelkopf. \nSchlag die Markert! \nMit veganen Schmalzstullen. Demnächst jeden 3. Sonntag im Monat!
URL:https://georgel.me/veranstaltung/panem-et-circenses-spielenachmittag/
CATEGORIES:Spielen
ATTACH;FMTTYPE=image/jpeg:https://georgel.me/wp-content/uploads/2024/09/panemEcircensis_Laura.jpeg
END:VEVENT
BEGIN:VEVENT
DTSTART;TZID=Europe/Berlin:20241122T170000
DTEND;TZID=Europe/Berlin:20241122T210000
DTSTAMP:20260422T211926
CREATED:20241111T130414Z
LAST-MODIFIED:20241111T130414Z
UID:2168-1732294800-1732309200@georgel.me
SUMMARY:Open Studio GeOrgel
DESCRIPTION:freitags 17-21\, a place to bastel: Studio GeOrgel ist ein Produktionsbüro und Veranstaltungsort\, ein offenes Atelier für alte und neue Medien; \nDie Klangschrankwand ist geöffnet und meistens auch der zweite Raum (Jam!).
URL:https://georgel.me/veranstaltung/open-studio-georgel-4/
CATEGORIES:offenes Atelier
END:VEVENT
BEGIN:VEVENT
DTSTART;TZID=Europe/Berlin:20241122T200000
DTEND;TZID=Europe/Berlin:20241122T220000
DTSTAMP:20260422T211926
CREATED:20241105T203557Z
LAST-MODIFIED:20250404T120837Z
UID:2151-1732305600-1732312800@georgel.me
SUMMARY:Salome Amend & Simon Camatta live (im Open Studio)
DESCRIPTION:freitags 17-21\, a place to bastel: Studio GeOrgel ist ein Produktionsbüro und Veranstaltungsort\, ein offenes Atelier für alte und neue Medien. Die Klangschrankwand ist geöffnet und meistens auch der zweite Raum (Jam!). \nAchtung – ab 20 Uhr findet ein Konzert statt: \nSalome Amend & Simon Camatta: 2 x percussion
URL:https://georgel.me/veranstaltung/open-studio-georgel-2/
CATEGORIES:Konzert
ATTACH;FMTTYPE=image/jpeg:https://georgel.me/wp-content/uploads/2024/11/24SG_SalomeSimon_INSTA.jpg
END:VEVENT
BEGIN:VEVENT
DTSTART;TZID=Europe/Berlin:20241123T160000
DTEND;TZID=Europe/Berlin:20241123T190000
DTSTAMP:20260422T211926
CREATED:20241115T094917Z
LAST-MODIFIED:20241115T094917Z
UID:2200-1732377600-1732388400@georgel.me
SUMMARY:Umkleidekabine
DESCRIPTION:Immer samstags\, 16 bis 19:00 Uhr holt Ruth Herberhold die guten alten Klamotten heraus und es darf gestöbert und anprobiert werden! Daraus entstehen (auf Verabredung) auch die Fotoshootings für Postkarten der Serie „Schöne Grüsse aus Gelsenkirchen!“ Die GeOrgel-installation ist geöffnet\, es gibt Tee und meistens Kuchen auf Spendenbasis. \nMehr zur Umkleidekabine
URL:https://georgel.me/veranstaltung/umkleidekabine-4/
CATEGORIES:offenes Atelier,Spielen
END:VEVENT
BEGIN:VEVENT
DTSTART;TZID=Europe/Berlin:20241123T193000
DTEND;TZID=Europe/Berlin:20241123T220000
DTSTAMP:20260422T211926
CREATED:20241119T090924Z
LAST-MODIFIED:20241119T091058Z
UID:2207-1732390200-1732399200@georgel.me
SUMMARY:Mohaddeseh Hossini:  Fliegen im Fallen  
DESCRIPTION:Musikalische Lesung auf Persisch und Deutsch\nDie junge Dichterin stellt auf Persisch und Deutsch Texte aus eigener Feder vor – begleitet von Harfenmusik. \nMEHR! \nGastsspiel des Cactus-Theater (Münster).
URL:https://georgel.me/veranstaltung/hossini/
CATEGORIES:Konzert,Lesung
ATTACH;FMTTYPE=image/jpeg:https://georgel.me/wp-content/uploads/2024/11/24SG_Mohadddeseh_PosterN.jpg
END:VEVENT
BEGIN:VEVENT
DTSTART;TZID=Europe/Berlin:20241129T170000
DTEND;TZID=Europe/Berlin:20241129T210000
DTSTAMP:20260422T211926
CREATED:20241111T130502Z
LAST-MODIFIED:20241111T130502Z
UID:2170-1732899600-1732914000@georgel.me
SUMMARY:Open Studio GeOrgel
DESCRIPTION:freitags 17-21\, a place to bastel: Studio GeOrgel ist ein Produktionsbüro und Veranstaltungsort\, ein offenes Atelier für alte und neue Medien; \nDie Klangschrankwand ist geöffnet und meistens auch der zweite Raum (Jam!).
URL:https://georgel.me/veranstaltung/open-studio-georgel-5/
CATEGORIES:offenes Atelier
END:VEVENT
BEGIN:VEVENT
DTSTART;TZID=Europe/Berlin:20241130T160000
DTEND;TZID=Europe/Berlin:20241130T190000
DTSTAMP:20260422T211926
CREATED:20241115T094323Z
LAST-MODIFIED:20241115T094423Z
UID:2195-1732982400-1732993200@georgel.me
SUMMARY:Umkleidekabine
DESCRIPTION:Immer samstags\, 16 bis 19:00 Uhr holt Ruth Herberhold die guten alten Klamotten heraus und es darf gestöbert und anprobiert werden! Daraus entstehen (auf Verabredung) auch die Fotoshootings für Postkarten der Serie „Schöne Grüsse aus Gelsenkirchen!“ Die GeOrgel-installation ist geöffnet\, es gibt Tee und meistens Kuchen auf Spendenbasis. \nMehr zur Umkleidekabine
URL:https://georgel.me/veranstaltung/umkleidekabine-2/
CATEGORIES:offenes Atelier,Spielen
END:VEVENT
END:VCALENDAR