BEGIN:VCALENDAR
VERSION:2.0
PRODID:-//St.GeOrgel - ECPv6.15.11//NONSGML v1.0//EN
CALSCALE:GREGORIAN
METHOD:PUBLISH
X-ORIGINAL-URL:https://georgel.me
X-WR-CALDESC:Veranstaltungen für St.GeOrgel
REFRESH-INTERVAL;VALUE=DURATION:PT1H
X-Robots-Tag:noindex
X-PUBLISHED-TTL:PT1H
BEGIN:VTIMEZONE
TZID:Europe/Berlin
BEGIN:DAYLIGHT
TZOFFSETFROM:+0100
TZOFFSETTO:+0200
TZNAME:CEST
DTSTART:20250330T010000
END:DAYLIGHT
BEGIN:STANDARD
TZOFFSETFROM:+0200
TZOFFSETTO:+0100
TZNAME:CET
DTSTART:20251026T010000
END:STANDARD
BEGIN:DAYLIGHT
TZOFFSETFROM:+0100
TZOFFSETTO:+0200
TZNAME:CEST
DTSTART:20260329T010000
END:DAYLIGHT
BEGIN:STANDARD
TZOFFSETFROM:+0200
TZOFFSETTO:+0100
TZNAME:CET
DTSTART:20261025T010000
END:STANDARD
BEGIN:DAYLIGHT
TZOFFSETFROM:+0100
TZOFFSETTO:+0200
TZNAME:CEST
DTSTART:20270328T010000
END:DAYLIGHT
BEGIN:STANDARD
TZOFFSETFROM:+0200
TZOFFSETTO:+0100
TZNAME:CET
DTSTART:20271031T010000
END:STANDARD
END:VTIMEZONE
BEGIN:VEVENT
DTSTART;TZID=Europe/Berlin:20260128T150000
DTEND;TZID=Europe/Berlin:20260128T190000
DTSTAMP:20260419T172628
CREATED:20260119T221633Z
LAST-MODIFIED:20260119T221633Z
UID:3077-1769612400-1769626800@georgel.me
SUMMARY:Offenes Atelier (BAU!#alle)
DESCRIPTION:2026 widmen wir uns im Projekt „BAU!alle“ im St. GeOrgel mehreren Projekten in einer offenen Werkstatt für Upcycling & Kunst. \nPROJEKTE:\nBis Ende Januar: wir bauen eine MAMMUT-Plastik!\nTechnik: Upcycling\, wir versuchen\, ausschliesslich gebrauchte Materialien zu nutzen (soweit möglich! Schrauben sind zT neu)\nZiel: für den Verein „Zeit für Solidarität“ und das Ruhr-Museum\, die einen Häkelwettbewerb starteten mit dem Challenge\, das grösste Mammut zu häkeln … \nbis Ende Februar: GeOrgel#2\nTechnik: Upcycling\, die Schrankwand in Eiche rustikal wird erweitert\n– zum JAMMEN (Ableton-basiert) mit mind. 5-Kanal-Audio in Sync. \nZiel: für die Ausstellung OPEN HOUSE im Kunstmuseum Gelsenkirchen (Eröffnung: 22.2.2026) für 2 Monate\, danach in der BAU!halle zu erleben… \nMärz/April: \n\nSITZSÄCKE mit ökologischer Füllung (Upcycling) – produziere für Dich selbst!*\nder grösste DURSTLÖSCHER XXL! – aus echten „Durstlöscher“-Getränkepackungen* (*für Manifesta16)\n\nMEhr
URL:https://georgel.me/veranstaltung/offenes-atelier-baualle-4/
LOCATION:St. GeOrgel
CATEGORIES:offenes Atelier
ATTACH;FMTTYPE=image/jpeg:https://georgel.me/wp-content/uploads/2024/11/2601MammutBAUdemming3198.jpeg
ORGANIZER;CN="St. GeOrgel (/BAU!#alle)":MAILTO:stef@georgel.me
END:VEVENT
END:VCALENDAR