BEGIN:VCALENDAR
VERSION:2.0
PRODID:-//St.GeOrgel - ECPv6.15.11//NONSGML v1.0//EN
CALSCALE:GREGORIAN
METHOD:PUBLISH
X-ORIGINAL-URL:https://georgel.me
X-WR-CALDESC:Veranstaltungen für St.GeOrgel
REFRESH-INTERVAL;VALUE=DURATION:PT1H
X-Robots-Tag:noindex
X-PUBLISHED-TTL:PT1H
BEGIN:VTIMEZONE
TZID:Europe/Berlin
BEGIN:DAYLIGHT
TZOFFSETFROM:+0100
TZOFFSETTO:+0200
TZNAME:CEST
DTSTART:20240331T010000
END:DAYLIGHT
BEGIN:STANDARD
TZOFFSETFROM:+0200
TZOFFSETTO:+0100
TZNAME:CET
DTSTART:20241027T010000
END:STANDARD
BEGIN:DAYLIGHT
TZOFFSETFROM:+0100
TZOFFSETTO:+0200
TZNAME:CEST
DTSTART:20250330T010000
END:DAYLIGHT
BEGIN:STANDARD
TZOFFSETFROM:+0200
TZOFFSETTO:+0100
TZNAME:CET
DTSTART:20251026T010000
END:STANDARD
BEGIN:DAYLIGHT
TZOFFSETFROM:+0100
TZOFFSETTO:+0200
TZNAME:CEST
DTSTART:20260329T010000
END:DAYLIGHT
BEGIN:STANDARD
TZOFFSETFROM:+0200
TZOFFSETTO:+0100
TZNAME:CET
DTSTART:20261025T010000
END:STANDARD
END:VTIMEZONE
BEGIN:VEVENT
DTSTART;TZID=Europe/Berlin:20251219T190000
DTEND;TZID=Europe/Berlin:20251219T210000
DTSTAMP:20260421T115813
CREATED:20251116T112531Z
LAST-MODIFIED:20251117T205030Z
UID:3012-1766170800-1766178000@georgel.me
SUMMARY:Gelsenkirchener Barock - Der Film
DESCRIPTION:Kirsten Lipka (GelsenMyLove) zeigt die neue Kurzdokumentation „Raus aus der Schublade: der Gelsenkirchener Barock“.\nDer Film wurde in Eigenproduktion zum Anlass von „150 Jahre Stadt Gelsenkirchen“ erstellt und feierte am 14.11. in der Schauburg Premiere. \nWas ist eigentlich „echter“ Gelsenkirchener Barock? Als Begriff für schlechten Geschmack ist er seit Jahrzehnten geprägt\, der wahre Möbelstil und dessen Geschichte bleibt aber den meisten verborgen.\nDie Errungenschaft eines solchen Schranks symbolisierte in den 1930er- und 1950er-Jahren gesellschaftlichen Aufstieg und Wohlstand in Arbeiter- und Kleinbürgerhaushalten. \nDer Film klärt über die Hintergründe auf\, erzählt vom Gelsenkirchener Barockfest im Jahr 1991 und geht der Frage nach\, warum ein Möbelstück Heimat bedeuten kann.\nDie neue Barockdokumentation dauert ca. 30 Minuten. \nFilmbeginn ca. 19:30 Uhr\, Einlass ist schon vor 19:00 Uhr – jeden Freitag im GeOrgel ab 17 Uhr. Der Eintritt ist frei.\nDanach gemütlicher Ausklang. \n\nAufpoliert: der Gelsenkirchener Barock \n\n \n 
URL:https://georgel.me/veranstaltung/gelsenbarock/
LOCATION:St. GeOrgel
CATEGORIES:Film/Video
ATTACH;FMTTYPE=image/jpeg:https://georgel.me/wp-content/uploads/2025/11/barock_film-1.jpg
END:VEVENT
END:VCALENDAR