BEGIN:VCALENDAR
VERSION:2.0
PRODID:-//St.GeOrgel - ECPv6.15.11//NONSGML v1.0//EN
CALSCALE:GREGORIAN
METHOD:PUBLISH
X-WR-CALNAME:St.GeOrgel
X-ORIGINAL-URL:https://georgel.me
X-WR-CALDESC:Veranstaltungen für St.GeOrgel
REFRESH-INTERVAL;VALUE=DURATION:PT1H
X-Robots-Tag:noindex
X-PUBLISHED-TTL:PT1H
BEGIN:VTIMEZONE
TZID:Europe/Berlin
BEGIN:DAYLIGHT
TZOFFSETFROM:+0100
TZOFFSETTO:+0200
TZNAME:CEST
DTSTART:20240331T010000
END:DAYLIGHT
BEGIN:STANDARD
TZOFFSETFROM:+0200
TZOFFSETTO:+0100
TZNAME:CET
DTSTART:20241027T010000
END:STANDARD
BEGIN:DAYLIGHT
TZOFFSETFROM:+0100
TZOFFSETTO:+0200
TZNAME:CEST
DTSTART:20250330T010000
END:DAYLIGHT
BEGIN:STANDARD
TZOFFSETFROM:+0200
TZOFFSETTO:+0100
TZNAME:CET
DTSTART:20251026T010000
END:STANDARD
BEGIN:DAYLIGHT
TZOFFSETFROM:+0100
TZOFFSETTO:+0200
TZNAME:CEST
DTSTART:20260329T010000
END:DAYLIGHT
BEGIN:STANDARD
TZOFFSETFROM:+0200
TZOFFSETTO:+0100
TZNAME:CET
DTSTART:20261025T010000
END:STANDARD
END:VTIMEZONE
BEGIN:VEVENT
DTSTART;TZID=Europe/Berlin:20251121T180000
DTEND;TZID=Europe/Berlin:20251121T190000
DTSTAMP:20260419T221723
CREATED:20250813T144924Z
LAST-MODIFIED:20251110T092350Z
UID:2817-1763748000-1763751600@georgel.me
SUMMARY:SERVAS (BjN) - nicht-kommerzielles\, internationales Reisen
DESCRIPTION:Vorgestellt wird SERVAS –  ein nicht-kommerzielles\, internationales Gastgeber:innen-Netzwerk\nDu liebst es zu reisen\, aber manchmal fehlt das Geld? Du bist offen dafür\, Menschen kennen zu lernen aber manchmal schüchtern? Du fragst Dich\, wie Du die „richtigen“ und vertrauenswürdige Menschen findest? Dann bist du richtig bei Servas! \nServas umfasst mehr als 100 Länder und bietet seinen Mitgliedern ein Netzwerk\, um Kontakte zu knüpfen\, Freundschaften aufzubauen und unser Verständnis von der Welt zu erweitern. Indem wir als Gastgeber\, Reisende oder Unterstützer online oder persönlich miteinander in Kontakt treten\, fördern wir Frieden und Toleranz und setzen uns gleichzeitig für umweltverträgliche Begegnungen und Lebensweisen mit geringeren ökologischen Auswirkungen ein. \nMit Servas Reisen = Zuhause in der Welt\n\n zu Gast: Horst Orzessek (Koordinator Westfalen / Ruhrgebiet)\, die früheren Koordinatoren Claudia & Heinz Miebach\, die viel über das Reisen mit Servas erzählen können sowie mindestens ein Interviewer\nwww.servas.org \n\n\n\nDu möchtest mit Servas reisen und am Reiseziel oder an Unterwegs-Orten bei Servas-Gastgeber:innen (Hosts) unterkommen? \n\nDann melde Dich als erstes bei Servas an.\n\n\n\nHast Du über die Servas-Datenbank einen Servas-Host gefunden\, bleibst Du dort normalerweise für zwei Nächte und tauchst während dieser Zeit in den Alltag und die Kultur dieser Menschen ein.\n\n\n\nSie lassen Dich an ihrem Leben teilhaben\, egal ob Familie\, Job oder andere Engagements und erzählen Dir viel über ihr Land.\n\n\n\nAls Traveller bist Du auch Mini-Botschafter:in Deines Landes und bringst Deine Kultur in das Haus der Gastgeber:in.\n\n\n\nDadurch entsteht oft ein wertvoller Gedankenaustausch \, der Dich nachhaltig prägt und den Du immer in Erinnerung behalten wirst!
URL:https://georgel.me/veranstaltung/servas/
LOCATION:St. GeOrgel
CATEGORIES:Dikussion,Workshop
ATTACH;FMTTYPE=image/jpeg:https://georgel.me/wp-content/uploads/2025/08/servas-full-logo.jpg
ORGANIZER;CN="St. GeOrgel (/BAU!#alle)":MAILTO:stef@georgel.me
END:VEVENT
END:VCALENDAR