BEGIN:VCALENDAR
VERSION:2.0
PRODID:-//St.GeOrgel - ECPv6.15.11//NONSGML v1.0//EN
CALSCALE:GREGORIAN
METHOD:PUBLISH
X-ORIGINAL-URL:https://georgel.me
X-WR-CALDESC:Veranstaltungen für St.GeOrgel
REFRESH-INTERVAL;VALUE=DURATION:PT1H
X-Robots-Tag:noindex
X-PUBLISHED-TTL:PT1H
BEGIN:VTIMEZONE
TZID:Europe/Berlin
BEGIN:DAYLIGHT
TZOFFSETFROM:+0100
TZOFFSETTO:+0200
TZNAME:CEST
DTSTART:20240331T010000
END:DAYLIGHT
BEGIN:STANDARD
TZOFFSETFROM:+0200
TZOFFSETTO:+0100
TZNAME:CET
DTSTART:20241027T010000
END:STANDARD
BEGIN:DAYLIGHT
TZOFFSETFROM:+0100
TZOFFSETTO:+0200
TZNAME:CEST
DTSTART:20250330T010000
END:DAYLIGHT
BEGIN:STANDARD
TZOFFSETFROM:+0200
TZOFFSETTO:+0100
TZNAME:CET
DTSTART:20251026T010000
END:STANDARD
BEGIN:DAYLIGHT
TZOFFSETFROM:+0100
TZOFFSETTO:+0200
TZNAME:CEST
DTSTART:20260329T010000
END:DAYLIGHT
BEGIN:STANDARD
TZOFFSETFROM:+0200
TZOFFSETTO:+0100
TZNAME:CET
DTSTART:20261025T010000
END:STANDARD
END:VTIMEZONE
BEGIN:VEVENT
DTSTART;TZID=Europe/Berlin:20251004T150000
DTEND;TZID=Europe/Berlin:20251004T180000
DTSTAMP:20260419T235822
CREATED:20250912T201300Z
LAST-MODIFIED:20250912T201326Z
UID:2891-1759590000-1759600800@georgel.me
SUMMARY:Extinction MINIGOLF BOULEVARD – FINAL MATCHPLAY
DESCRIPTION:Das Künstlerinnenkollektiv Art Ashram  eröffnet am 2. Oktober den MINIGOLF BOULEVARD – FINAL MATCHPLAY.\n\nDer Wasserspiegel steigt\, schnell muss jede Spielerin das goldene Ei in Sicherheit bringen. Dabei rollen außergewöhnlich\n gewöhnliche Bahnen auf den Platz vor der Bochumerstr 150 – denn das Team Adam\, Seibt\, Zimmermann versteht sich\ndarauf aus Stroh\, Gold zu spinnen. Aus dem weggeworfenen Ikea-\, Poco-\, Roller & Co-Sperrmüll zaubert das Trio eine Minigolfanlage der Superlative. On top of Extinction lockt die Gewinnbude von Stefan Demming mit heißen Preisen.\n\nWas will man mehr\, so kurz vor dem Aussterben?!\nLaufzeit: As long as it lasts!!\n\n\n\nWebsite von Art Ashram\nAdam\, Seibt und Zimmermann\n\n\nEintritt: frei! \nZeiten (geplant): 2.10. bis 5.10.  \nDo\, 2.10.\, 18 Uhr Eröffnung\,  \ngeöffnet: Fr. 3. 10 (Feiertag) 15-18 Uhr\, Sa. 4.10.\, 15-18 Uhr\, So. 5.10.\, 15-18 Uhr (Ende ggf jeweils bis 19 Uhr) \nOrte (geplant): \nZwischen dem GeOrgel / H Stephanstr.Und dem Atelierhaus\, Bochumerstr. 132 \nAchtung\, Orte und Zeiten können sich noch leicht ändern\, wir sind noch in der Vorbereitungsphase\, bitte hier schauen für aktuelle Infos\, danke! \n  \n  \n  \n:
URL:https://georgel.me/veranstaltung/extinction-minigolf-boulevard-final-matchplay-2/
CATEGORIES:Ausstellung,Intervention,offenes Atelier,Performance,Spielen
ATTACH;FMTTYPE=image/jpeg:https://georgel.me/wp-content/uploads/2025/08/Extinction-Boulevardwb.jpg
ORGANIZER;CN="St. GeOrgel (/BAU!#alle)":MAILTO:stef@georgel.me
END:VEVENT
BEGIN:VEVENT
DTSTART;TZID=Europe/Berlin:20251004T163000
DTEND;TZID=Europe/Berlin:20251004T183000
DTSTAMP:20260419T235822
CREATED:20250629T114956Z
LAST-MODIFIED:20250926T074408Z
UID:2761-1759595400-1759602600@georgel.me
SUMMARY:SCHAUSTELLE #05:   Duo Boas Caipiras -4.10.\, 16:30 Uhr
DESCRIPTION:Achtung\, diese Veranstaltung ist VERLEGT! Neuer Termin: Sa. 4.10. um 16:30 Uhr Bochumer Str. 148 Hinterhof (hinter dem GeOrgel) \n-> mehr zum Programm SCHAUSTELLE\nDetails zu SCHAUSTELLE#06: \nDas Duo Boas Caipiras\naus Essen spielt Stücke der Música Popular Brasileira (kurz MPB)\, einer schon klassisch gewordenen Popmusik aus Brasilien\, die quer durch alle Alters- und Sozialschichten gehört wird.\n\nBoas Caipiras sind:\nViola Pieper (Gesang & akustische Gitarre) und Katrin Sons (Querflöte)\n\nMit „voz e violão“ bietet Viola Pieper den „akustischen fliegenden Teppich“ aus Gitarre & Gesang\, auf den die versierte Flötistin Katrin Sons gekonnt aufspringt\, und mit wunderschönen Soli\, Fills\, und Background Sounds das träumerische Klangerlebnis vervollständigt.\nZusammen verbreiten die beiden Ladies und studierten Musikerinnen in südlicher Atmosphäre die Freude brasilianischen Liedguts und dessen poetische Tiefe.\n \n  \n 
URL:https://georgel.me/veranstaltung/schaus5caipiras/
CATEGORIES:Konzert,Performance,Spielen
ATTACH;FMTTYPE=image/jpeg:https://georgel.me/wp-content/uploads/2024/09/ViolaKatrin_unsch.jpeg
END:VEVENT
END:VCALENDAR