BEGIN:VCALENDAR
VERSION:2.0
PRODID:-//St.GeOrgel - ECPv6.15.11//NONSGML v1.0//EN
CALSCALE:GREGORIAN
METHOD:PUBLISH
X-WR-CALNAME:St.GeOrgel
X-ORIGINAL-URL:https://georgel.me
X-WR-CALDESC:Veranstaltungen für St.GeOrgel
REFRESH-INTERVAL;VALUE=DURATION:PT1H
X-Robots-Tag:noindex
X-PUBLISHED-TTL:PT1H
BEGIN:VTIMEZONE
TZID:Europe/Berlin
BEGIN:DAYLIGHT
TZOFFSETFROM:+0100
TZOFFSETTO:+0200
TZNAME:CEST
DTSTART:20240331T010000
END:DAYLIGHT
BEGIN:STANDARD
TZOFFSETFROM:+0200
TZOFFSETTO:+0100
TZNAME:CET
DTSTART:20241027T010000
END:STANDARD
BEGIN:DAYLIGHT
TZOFFSETFROM:+0100
TZOFFSETTO:+0200
TZNAME:CEST
DTSTART:20250330T010000
END:DAYLIGHT
BEGIN:STANDARD
TZOFFSETFROM:+0200
TZOFFSETTO:+0100
TZNAME:CET
DTSTART:20251026T010000
END:STANDARD
BEGIN:DAYLIGHT
TZOFFSETFROM:+0100
TZOFFSETTO:+0200
TZNAME:CEST
DTSTART:20260329T010000
END:DAYLIGHT
BEGIN:STANDARD
TZOFFSETFROM:+0200
TZOFFSETTO:+0100
TZNAME:CET
DTSTART:20261025T010000
END:STANDARD
END:VTIMEZONE
BEGIN:VEVENT
DTSTART;TZID=Europe/Berlin:20250919T160000
DTEND;TZID=Europe/Berlin:20250919T210000
DTSTAMP:20260420T013519
CREATED:20250714T164428Z
LAST-MODIFIED:20250715T052901Z
UID:2610-1758297600-1758315600@georgel.me
SUMMARY:BUNKERN! Trödel am Bunker mit 0-€-Shop
DESCRIPTION:Wir organisieren einen Trödelmarkt am Bunker genau an der Haltestelle Stephanstrasse: kommt\, verkauft und verteilt Eure Sachen\, stöbert\, findet Schätze! Dazu gesellt sich der 0-Euro-Shop: ausgewählte Fundstücke zum Mitnehmen – zum Wegwerfen zu schade!
URL:https://georgel.me/veranstaltung/bunkern/
LOCATION:vor dem Bunker\, gegenüber vom GeOrgel
CATEGORIES:offenes Atelier,Spielen,Trödeln
ATTACH;FMTTYPE=image/jpeg:https://georgel.me/wp-content/uploads/2025/07/2412_0EShop_5387wb.jpg
END:VEVENT
BEGIN:VEVENT
DTSTART;TZID=Europe/Berlin:20250919T170000
DTEND;TZID=Europe/Berlin:20250919T183000
DTSTAMP:20260420T013519
CREATED:20250731T163916Z
LAST-MODIFIED:20250813T091520Z
UID:2608-1758301200-1758306600@georgel.me
SUMMARY:SCHAUSTELLE #06: Marita Bullmann
DESCRIPTION:am Freitag\, den 19.9. ab 17-18:30 Uhr @ (Platz der Heinze-Frauen / Bochumerstr./ ggf teilweise vor dem Justizzentrum) \n-> mehr zum Programm SCHAUSTELLE\nDetails zu SCHAUSTELLE#06: \nMarita Bullmann\nMarita ist eine regional als auch international arbeitende Performance-Künstlerin aus Essen. Sie reagiert in ihren Performances oft situationtiv auf die vorgefundenen Begebenheiten. Daher sind wir gespannt\, sie im Umfeld der Baustelle an der Bochumerstr erleben zu dürfen! Seid dabei! \nMarita im Portrait auf Kulturinfo.ruhr \n 
URL:https://georgel.me/veranstaltung/schaus6/
CATEGORIES:Intervention,Performance,Spielen
ATTACH;FMTTYPE=image/jpeg:https://georgel.me/wp-content/uploads/2025/07/250919Schaustelle_MBullmann_SD.jpg
END:VEVENT
END:VCALENDAR