BEGIN:VCALENDAR
VERSION:2.0
PRODID:-//St.GeOrgel - ECPv6.15.11//NONSGML v1.0//EN
CALSCALE:GREGORIAN
METHOD:PUBLISH
X-ORIGINAL-URL:https://georgel.me
X-WR-CALDESC:Veranstaltungen für St.GeOrgel
REFRESH-INTERVAL;VALUE=DURATION:PT1H
X-Robots-Tag:noindex
X-PUBLISHED-TTL:PT1H
BEGIN:VTIMEZONE
TZID:Europe/Berlin
BEGIN:DAYLIGHT
TZOFFSETFROM:+0100
TZOFFSETTO:+0200
TZNAME:CEST
DTSTART:20240331T010000
END:DAYLIGHT
BEGIN:STANDARD
TZOFFSETFROM:+0200
TZOFFSETTO:+0100
TZNAME:CET
DTSTART:20241027T010000
END:STANDARD
BEGIN:DAYLIGHT
TZOFFSETFROM:+0100
TZOFFSETTO:+0200
TZNAME:CEST
DTSTART:20250330T010000
END:DAYLIGHT
BEGIN:STANDARD
TZOFFSETFROM:+0200
TZOFFSETTO:+0100
TZNAME:CET
DTSTART:20251026T010000
END:STANDARD
BEGIN:DAYLIGHT
TZOFFSETFROM:+0100
TZOFFSETTO:+0200
TZNAME:CEST
DTSTART:20260329T010000
END:DAYLIGHT
BEGIN:STANDARD
TZOFFSETFROM:+0200
TZOFFSETTO:+0100
TZNAME:CET
DTSTART:20261025T010000
END:STANDARD
END:VTIMEZONE
BEGIN:VEVENT
DTSTART;TZID=Europe/Berlin:20250809T160000
DTEND;TZID=Europe/Berlin:20250809T190000
DTSTAMP:20260420T044803
CREATED:20250709T155129Z
LAST-MODIFIED:20250713T211724Z
UID:2584-1754755200-1754766000@georgel.me
SUMMARY:SCHAUSTELLE #03 - Care Bears & Drehorgel de luxe
DESCRIPTION:am Samstag\, den 9.8. ab 16 Uhr vor dem Justizzentrum an der Baustelle an der Bochumerstrasse\, GE \nab 16 Uhr (bis ca 17:30 Uhr) Besuch von den Care Bears (Bo) entlang der Bochumstr. zwischen GeOrgel/ U Stephanstr. und Justizzentrum \nab 16:30 Uhr (bis ca 18:30 Uhr) : Drehorgel de luxe am Justizzentrum \ndavor/danach: Rahmenprogramm von S. Demming (wahlweise DJ Grammophon\, Aufblasblumen\, Sitzsäcke o.a.) \n-> mehr zum Programm SCHAUSTELLE\nDetails zu SCHAUSTELLE#03: \n  \n\n  \n 
URL:https://georgel.me/veranstaltung/schaus03/
CATEGORIES:Intervention,Performance,Spielen
ATTACH;FMTTYPE=image/webp:https://georgel.me/wp-content/uploads/2025/07/carebears.webp
END:VEVENT
END:VCALENDAR