BEGIN:VCALENDAR
VERSION:2.0
PRODID:-//St.GeOrgel - ECPv6.15.11//NONSGML v1.0//EN
CALSCALE:GREGORIAN
METHOD:PUBLISH
X-WR-CALNAME:St.GeOrgel
X-ORIGINAL-URL:https://georgel.me
X-WR-CALDESC:Veranstaltungen für St.GeOrgel
REFRESH-INTERVAL;VALUE=DURATION:PT1H
X-Robots-Tag:noindex
X-PUBLISHED-TTL:PT1H
BEGIN:VTIMEZONE
TZID:Europe/Berlin
BEGIN:DAYLIGHT
TZOFFSETFROM:+0100
TZOFFSETTO:+0200
TZNAME:CEST
DTSTART:20240331T010000
END:DAYLIGHT
BEGIN:STANDARD
TZOFFSETFROM:+0200
TZOFFSETTO:+0100
TZNAME:CET
DTSTART:20241027T010000
END:STANDARD
BEGIN:DAYLIGHT
TZOFFSETFROM:+0100
TZOFFSETTO:+0200
TZNAME:CEST
DTSTART:20250330T010000
END:DAYLIGHT
BEGIN:STANDARD
TZOFFSETFROM:+0200
TZOFFSETTO:+0100
TZNAME:CET
DTSTART:20251026T010000
END:STANDARD
BEGIN:DAYLIGHT
TZOFFSETFROM:+0100
TZOFFSETTO:+0200
TZNAME:CEST
DTSTART:20260329T010000
END:DAYLIGHT
BEGIN:STANDARD
TZOFFSETFROM:+0200
TZOFFSETTO:+0100
TZNAME:CET
DTSTART:20261025T010000
END:STANDARD
END:VTIMEZONE
BEGIN:VEVENT
DTSTART;TZID=Europe/Berlin:20250726T160000
DTEND;TZID=Europe/Berlin:20250726T190000
DTSTAMP:20260420T062639
CREATED:20250709T153140Z
LAST-MODIFIED:20250723T103407Z
UID:2577-1753545600-1753556400@georgel.me
SUMMARY:SCHAUSTELLE #02 - Bauchtanz mit Verahzad & Jibel Jay
DESCRIPTION:am Samstag\, den 26.7. ab 16 Uhr gegenüber vom Justizzentrum an der Baustelle an der Bochumerstrasse und am „Platz der Heinze Frauen“\, GE \n16 // 18 Uhr: Jibel Jay\, Beatboxing \n \n17-19 Uhr: \nVerahzad – Oriental Dreams – Bauchtanz\ndavor/danach: Rahmenprogramm von S. Demming (wahlweise DJ Grammophon\, Aufblasblumen\, Sitzsäcke o.a.) \n-> mehr zum Programm SCHAUSTELLE\nDetails zu SCHAUSTELLE#02 am 26.7.: \n-> Bauchtanz ist der wohl gebräuchlichste Begriff für einen immer noch umstrittenen Tanzstil aus dem Orient. Von hochangesehenen Tänzerinnen bis zur verkappten Striptease-Tänzerin im Bauchtanzkostüm ist so ziemlich jedes Klischee weltweit vertreten. Frauen und Männer haben sich aus den unterschiedlichsten Gründen dem Orientalischen Tanz verschrieben… mehr
URL:https://georgel.me/veranstaltung/schaus02/
CATEGORIES:Intervention,Performance,Spielen
ATTACH;FMTTYPE=image/jpeg:https://georgel.me/wp-content/uploads/2025/07/2507SchauBauchtanzVera-01.jpeg
END:VEVENT
END:VCALENDAR