BEGIN:VCALENDAR
VERSION:2.0
PRODID:-//St.GeOrgel - ECPv6.15.11//NONSGML v1.0//EN
CALSCALE:GREGORIAN
METHOD:PUBLISH
X-WR-CALNAME:St.GeOrgel
X-ORIGINAL-URL:https://georgel.me
X-WR-CALDESC:Veranstaltungen für St.GeOrgel
REFRESH-INTERVAL;VALUE=DURATION:PT1H
X-Robots-Tag:noindex
X-PUBLISHED-TTL:PT1H
BEGIN:VTIMEZONE
TZID:Europe/Berlin
BEGIN:DAYLIGHT
TZOFFSETFROM:+0100
TZOFFSETTO:+0200
TZNAME:CEST
DTSTART:20240331T010000
END:DAYLIGHT
BEGIN:STANDARD
TZOFFSETFROM:+0200
TZOFFSETTO:+0100
TZNAME:CET
DTSTART:20241027T010000
END:STANDARD
BEGIN:DAYLIGHT
TZOFFSETFROM:+0100
TZOFFSETTO:+0200
TZNAME:CEST
DTSTART:20250330T010000
END:DAYLIGHT
BEGIN:STANDARD
TZOFFSETFROM:+0200
TZOFFSETTO:+0100
TZNAME:CET
DTSTART:20251026T010000
END:STANDARD
BEGIN:DAYLIGHT
TZOFFSETFROM:+0100
TZOFFSETTO:+0200
TZNAME:CEST
DTSTART:20260329T010000
END:DAYLIGHT
BEGIN:STANDARD
TZOFFSETFROM:+0200
TZOFFSETTO:+0100
TZNAME:CET
DTSTART:20261025T010000
END:STANDARD
END:VTIMEZONE
BEGIN:VEVENT
DTSTART;TZID=Europe/Berlin:20250516T170000
DTEND;TZID=Europe/Berlin:20250516T210000
DTSTAMP:20260422T132358
CREATED:20250414T135742Z
LAST-MODIFIED:20250414T135742Z
UID:2451-1747414800-1747429200@georgel.me
SUMMARY:Premiere der BarockOper um 17 Uhr auf Neustern! - BjN zu / ggf zum Ausklang geöffnet
DESCRIPTION:Wegen der Premiere der BarockOper in der Gelsenkirchener Neustadt bleibt die beiden Nutzens heute geschlossen! Kommt alle zur Barock Oper! Eintritt frei es wird wunderbar! \n  \n  \n\n\n\nHeute / Freitags ist das GeOrgel mit den Klangschubladen unter dem Motto Bar Jeden Nutzens von 17-21 Uhr geöffnet und offen für Sinnvolles – und Unsinniges!
URL:https://georgel.me/veranstaltung/premiere-der-barockoper-um-17-uhr-auf-neustern-bjn-zu-ggf-zum-ausklang-geoeffnet/
CATEGORIES:offenes Atelier,Spielen
END:VEVENT
BEGIN:VEVENT
DTSTART;TZID=Europe/Berlin:20250516T170000
DTEND;TZID=Europe/Berlin:20250516T210000
DTSTAMP:20260422T132358
CREATED:20250503T120742Z
LAST-MODIFIED:20250503T120742Z
UID:2472-1747414800-1747429200@georgel.me
SUMMARY:BarockOper um 17 Uhr auf Neustern in der Geleksie!
DESCRIPTION:Wegen der Premiere der BarockOper in der Gelsenkirchener Neustadt bleibt die beiden Nutzens heute geschlossen! Kommt alle zur Barock Oper\, Karten für 0€ gibt es beim Musiktheater im Revier (online)! Eintritt frei es wird wunderbar! \n  \n  \n\n\n\nHeute / Freitags ist das GeOrgel mit den Klangschubladen unter dem Motto Bar Jeden Nutzens von 17-21 Uhr geöffnet und offen für Sinnvolles – und Unsinniges!
URL:https://georgel.me/veranstaltung/barockoper-um-17-uhr-auf-neustern-in-der-geleksie/
CATEGORIES:offenes Atelier,Spielen
END:VEVENT
END:VCALENDAR