BEGIN:VCALENDAR
VERSION:2.0
PRODID:-//St.GeOrgel - ECPv6.15.11//NONSGML v1.0//EN
CALSCALE:GREGORIAN
METHOD:PUBLISH
X-ORIGINAL-URL:https://georgel.me
X-WR-CALDESC:Veranstaltungen für St.GeOrgel
REFRESH-INTERVAL;VALUE=DURATION:PT1H
X-Robots-Tag:noindex
X-PUBLISHED-TTL:PT1H
BEGIN:VTIMEZONE
TZID:Europe/Berlin
BEGIN:DAYLIGHT
TZOFFSETFROM:+0100
TZOFFSETTO:+0200
TZNAME:CEST
DTSTART:20240331T010000
END:DAYLIGHT
BEGIN:STANDARD
TZOFFSETFROM:+0200
TZOFFSETTO:+0100
TZNAME:CET
DTSTART:20241027T010000
END:STANDARD
BEGIN:DAYLIGHT
TZOFFSETFROM:+0100
TZOFFSETTO:+0200
TZNAME:CEST
DTSTART:20250330T010000
END:DAYLIGHT
BEGIN:STANDARD
TZOFFSETFROM:+0200
TZOFFSETTO:+0100
TZNAME:CET
DTSTART:20251026T010000
END:STANDARD
BEGIN:DAYLIGHT
TZOFFSETFROM:+0100
TZOFFSETTO:+0200
TZNAME:CEST
DTSTART:20260329T010000
END:DAYLIGHT
BEGIN:STANDARD
TZOFFSETFROM:+0200
TZOFFSETTO:+0100
TZNAME:CET
DTSTART:20261025T010000
END:STANDARD
END:VTIMEZONE
BEGIN:VEVENT
DTSTART;TZID=Europe/Berlin:20250501T180000
DTEND;TZID=Europe/Berlin:20250501T200000
DTSTAMP:20260422T132736
CREATED:20250315T003558Z
LAST-MODIFIED:20250315T003838Z
UID:2388-1746122400-1746129600@georgel.me
SUMMARY:Sound 8 Orchestra (D/CH/Berlin): Show&Super8-filme am 1. Mai
DESCRIPTION:Das Sound 8 Orchestra (D/CH/Berlin) ist das Projekt des Multiinstrumentalisten Matthias Wyder .\nEasy Listening\, Low Budget Lounge Musik\, Retrofuturistische B-Movie Soundtracks und psychedelische Electrosounds zu einem Klangmix irgendwo zwischen Lee Perry\, Add N To X\, Sun Ra und James Bond Soundtracks. Als Soloset werden Wyders Keyboardklänge zu Found-footage-Filmen von drei Super 8 Projektoren gespielt\, das zu einem audiovisuellen Erlebnis führt. \nDie Ausverkaufte Record Release Party war im Schokoladen am 14.03.24 in Berlin\n\n\nMatthias Wyder : Korg Ms10\, Korg Ms20\, Heimorgel\, Hawaii Gitarre\, Gitarre\,Stylophone\, Laptob und Super 8 Filme\nMareike Hube : Super 8 Projektion \n\n\nDas „Sound 8 Orchestra“ hat bislang vier Alben und eine Vinyl Single veröffentlicht . Golden Memories 2007\, Nonstop Dancing 2011\, Vinyl Single 2013\,2015 erschien das Stück Stylophone auf einer Flexi Disc Postkarte\, 2017 Grooves from another Galaxy und das neue Album Dezember 2023 Vol 4.\n\n\n\n\n\n\n\n\n\n\n\nHomepage\n\n\n\n\n\n\n\n\n\n\n\nhttp://www.sound8orchestra.com\n\n\nBandcamp\n\n\nhttp://sound8orchestra.bandcamp.com/
URL:https://georgel.me/veranstaltung/sound-8/
CATEGORIES:Konzert
ATTACH;FMTTYPE=image/jpeg:https://georgel.me/wp-content/uploads/2025/03/Sound8Orchestra1FSeverineKpoti.jpeg
END:VEVENT
END:VCALENDAR