BEGIN:VCALENDAR
VERSION:2.0
PRODID:-//St.GeOrgel - ECPv6.15.11//NONSGML v1.0//EN
CALSCALE:GREGORIAN
METHOD:PUBLISH
X-ORIGINAL-URL:https://georgel.me
X-WR-CALDESC:Veranstaltungen für St.GeOrgel
REFRESH-INTERVAL;VALUE=DURATION:PT1H
X-Robots-Tag:noindex
X-PUBLISHED-TTL:PT1H
BEGIN:VTIMEZONE
TZID:Europe/Berlin
BEGIN:DAYLIGHT
TZOFFSETFROM:+0100
TZOFFSETTO:+0200
TZNAME:CEST
DTSTART:20240331T010000
END:DAYLIGHT
BEGIN:STANDARD
TZOFFSETFROM:+0200
TZOFFSETTO:+0100
TZNAME:CET
DTSTART:20241027T010000
END:STANDARD
BEGIN:DAYLIGHT
TZOFFSETFROM:+0100
TZOFFSETTO:+0200
TZNAME:CEST
DTSTART:20250330T010000
END:DAYLIGHT
BEGIN:STANDARD
TZOFFSETFROM:+0200
TZOFFSETTO:+0100
TZNAME:CET
DTSTART:20251026T010000
END:STANDARD
BEGIN:DAYLIGHT
TZOFFSETFROM:+0100
TZOFFSETTO:+0200
TZNAME:CEST
DTSTART:20260329T010000
END:DAYLIGHT
BEGIN:STANDARD
TZOFFSETFROM:+0200
TZOFFSETTO:+0100
TZNAME:CET
DTSTART:20261025T010000
END:STANDARD
END:VTIMEZONE
BEGIN:VEVENT
DTSTART;TZID=Europe/Berlin:20250429T170000
DTEND;TZID=Europe/Berlin:20250429T210000
DTSTAMP:20260422T132538
CREATED:20250314T123756Z
LAST-MODIFIED:20250416T124815Z
UID:2375-1745946000-1745960400@georgel.me
SUMMARY:Werkstatt Bühne  #07
DESCRIPTION:WERKSTATT BÜHNE – Block: Achtung\, wir gehen an diesem WE häufiger (ganz sicher am 26.4. morgens) zu den Schauspielern in situ in die Josefstr. \, GE-Neustadt. Wenn das GeOrgel geschlossen ist\, findet ihr uns dort! \nIm GeOrgel wird gemeinsam an einer BÜHNE für ein besonderes Projekt gebastelt: die BaRockOper ist Musiktheater im Stadtraum und wird federführend vom MiR.Lab partizipativ entwickelt! Die Bühne muss\, kann\, darf mobil\, modular\, performativ und aufregend spacig werden! \nWERKSTATT BÜHNE\, Termine im\nGeOrgel\, Bochumer Straße 150\, Gelsenkirchen \n29.04.2025\, 17:00 – 20:00\n06.05.2025\, 17:00 – 20:00 \nWAS:\nTheater zum Mitmachen ! \nWir suchen Menschen jeden Alters\, die Lust haben\, dieses einzigartige Stadtprojekt mitzugestalten…. \nMach mit und werde Teil unseres Stadt-Spektakels! \nWIE (Bühne):\nNähen\, basteln\, aus alten Sachen Kunst machen\, mit Ventilatortechnik und Licht experimentieren: gemeinsam mit Stefan Demming\, Künstler\, baut ihr in der Werkstatt auf der Bochumer Straße glitzernde Space-Objekte aus leeren Durstlöscher-Tüten.  Außerdem werden aufblasbare Kulissen aus Fallschirmstoff genäht\, die die Josefstraße in unsere kosmische Landschaft verwandeln. #upcyclethecity #upcyclethestreet \n  \n\n			\n				\n			\n				\n				… gereinigt und auseinander gefaltet und dann zusammengenäht…\n				\n			\n				\n			\n				\n				… zu Flächen…\n				\n			\n				\n			\n				\n				Die Getränkeverpackungen liegen überall herum – sie werden gesammelt\n				\n			\n				\n			\n				\n				mit denen Formen gebaut werden können.
URL:https://georgel.me/veranstaltung/werkstatt-buehne-07/
CATEGORIES:Workshop
END:VEVENT
END:VCALENDAR