BEGIN:VCALENDAR
VERSION:2.0
PRODID:-//St.GeOrgel - ECPv6.15.11//NONSGML v1.0//EN
CALSCALE:GREGORIAN
METHOD:PUBLISH
X-WR-CALNAME:St.GeOrgel
X-ORIGINAL-URL:https://georgel.me
X-WR-CALDESC:Veranstaltungen für St.GeOrgel
REFRESH-INTERVAL;VALUE=DURATION:PT1H
X-Robots-Tag:noindex
X-PUBLISHED-TTL:PT1H
BEGIN:VTIMEZONE
TZID:Europe/Berlin
BEGIN:DAYLIGHT
TZOFFSETFROM:+0100
TZOFFSETTO:+0200
TZNAME:CEST
DTSTART:20240331T010000
END:DAYLIGHT
BEGIN:STANDARD
TZOFFSETFROM:+0200
TZOFFSETTO:+0100
TZNAME:CET
DTSTART:20241027T010000
END:STANDARD
BEGIN:DAYLIGHT
TZOFFSETFROM:+0100
TZOFFSETTO:+0200
TZNAME:CEST
DTSTART:20250330T010000
END:DAYLIGHT
BEGIN:STANDARD
TZOFFSETFROM:+0200
TZOFFSETTO:+0100
TZNAME:CET
DTSTART:20251026T010000
END:STANDARD
BEGIN:DAYLIGHT
TZOFFSETFROM:+0100
TZOFFSETTO:+0200
TZNAME:CEST
DTSTART:20260329T010000
END:DAYLIGHT
BEGIN:STANDARD
TZOFFSETFROM:+0200
TZOFFSETTO:+0100
TZNAME:CET
DTSTART:20261025T010000
END:STANDARD
END:VTIMEZONE
BEGIN:VEVENT
DTSTART;TZID=Europe/Berlin:20250322T160000
DTEND;TZID=Europe/Berlin:20250322T200000
DTSTAMP:20260422T160053
CREATED:20241221T193323Z
LAST-MODIFIED:20250314T100522Z
UID:2243-1742659200-1742673600@georgel.me
SUMMARY:Platten GeOrgeln mit DJ Reggae Rainer (Sound Digger Sounds)
DESCRIPTION:parallel zum \nKleidertausch (Hind)\, Plattenbörse (Trinkhalle): Klamotten probieren & Platten hören im GeOrgel!\nwir sind dabei! \nWer möchte darf auch seine neuen Platten (von der Börse) auflegen\, oder bei zu vielen linken Händen von den DJs auflegen lassen…
URL:https://georgel.me/veranstaltung/plattengeorgeln/
CATEGORIES:Ausstellung,offenes Atelier,Spielen
END:VEVENT
END:VCALENDAR