BEGIN:VCALENDAR
VERSION:2.0
PRODID:-//St.GeOrgel - ECPv6.15.11//NONSGML v1.0//EN
CALSCALE:GREGORIAN
METHOD:PUBLISH
X-WR-CALNAME:St.GeOrgel
X-ORIGINAL-URL:https://georgel.me
X-WR-CALDESC:Veranstaltungen für St.GeOrgel
REFRESH-INTERVAL;VALUE=DURATION:PT1H
X-Robots-Tag:noindex
X-PUBLISHED-TTL:PT1H
BEGIN:VTIMEZONE
TZID:Europe/Berlin
BEGIN:DAYLIGHT
TZOFFSETFROM:+0100
TZOFFSETTO:+0200
TZNAME:CEST
DTSTART:20240331T010000
END:DAYLIGHT
BEGIN:STANDARD
TZOFFSETFROM:+0200
TZOFFSETTO:+0100
TZNAME:CET
DTSTART:20241027T010000
END:STANDARD
BEGIN:DAYLIGHT
TZOFFSETFROM:+0100
TZOFFSETTO:+0200
TZNAME:CEST
DTSTART:20250330T010000
END:DAYLIGHT
BEGIN:STANDARD
TZOFFSETFROM:+0200
TZOFFSETTO:+0100
TZNAME:CET
DTSTART:20251026T010000
END:STANDARD
BEGIN:DAYLIGHT
TZOFFSETFROM:+0100
TZOFFSETTO:+0200
TZNAME:CEST
DTSTART:20260329T010000
END:DAYLIGHT
BEGIN:STANDARD
TZOFFSETFROM:+0200
TZOFFSETTO:+0100
TZNAME:CET
DTSTART:20261025T010000
END:STANDARD
END:VTIMEZONE
BEGIN:VEVENT
DTSTART;TZID=Europe/Berlin:20250315T193000
DTEND;TZID=Europe/Berlin:20250315T233000
DTSTAMP:20260422T160319
CREATED:20241221T193215Z
LAST-MODIFIED:20250113T143931Z
UID:2241-1742067000-1742081400@georgel.me
SUMMARY:Elvis Pummel &  'DJ ANGO mit einem Filmriss Spezial' zu "Kommse Ücken?!"
DESCRIPTION:Das GeOrgel freut sich\, den besten schlechtesten Gitarristen NRWs zu Gast zu haben – den preisgekrönten Dilettanten und King of Trash aus Dortmund: ELVIS PUMMEL. Vor und nach seinem Auftritt beschert euch DJ ANGO ein tanzbares Set aus allen Genres und Epochen im Rahmen einer Filmriss-Spezial-Party! \nDoors: 19\, Konzert: 20 Uhr \n 
URL:https://georgel.me/veranstaltung/kommse-uecken/
CATEGORIES:DJ Set,Konzert
ATTACH;FMTTYPE=image/png:https://georgel.me/wp-content/uploads/2024/12/Bildschirmfoto-2025-01-13-um-15.37.19.png
END:VEVENT
END:VCALENDAR