BEGIN:VCALENDAR
VERSION:2.0
PRODID:-//St.GeOrgel - ECPv6.15.11//NONSGML v1.0//EN
CALSCALE:GREGORIAN
METHOD:PUBLISH
X-ORIGINAL-URL:https://georgel.me
X-WR-CALDESC:Veranstaltungen für St.GeOrgel
REFRESH-INTERVAL;VALUE=DURATION:PT1H
X-Robots-Tag:noindex
X-PUBLISHED-TTL:PT1H
BEGIN:VTIMEZONE
TZID:Europe/Berlin
BEGIN:DAYLIGHT
TZOFFSETFROM:+0100
TZOFFSETTO:+0200
TZNAME:CEST
DTSTART:20240331T010000
END:DAYLIGHT
BEGIN:STANDARD
TZOFFSETFROM:+0200
TZOFFSETTO:+0100
TZNAME:CET
DTSTART:20241027T010000
END:STANDARD
BEGIN:DAYLIGHT
TZOFFSETFROM:+0100
TZOFFSETTO:+0200
TZNAME:CEST
DTSTART:20250330T010000
END:DAYLIGHT
BEGIN:STANDARD
TZOFFSETFROM:+0200
TZOFFSETTO:+0100
TZNAME:CET
DTSTART:20251026T010000
END:STANDARD
BEGIN:DAYLIGHT
TZOFFSETFROM:+0100
TZOFFSETTO:+0200
TZNAME:CEST
DTSTART:20260329T010000
END:DAYLIGHT
BEGIN:STANDARD
TZOFFSETFROM:+0200
TZOFFSETTO:+0100
TZNAME:CET
DTSTART:20261025T010000
END:STANDARD
END:VTIMEZONE
BEGIN:VEVENT
DTSTART;TZID=Europe/Berlin:20250228T160000
DTEND;TZID=Europe/Berlin:20250228T200000
DTSTAMP:20260422T162521
CREATED:20241221T190639Z
LAST-MODIFIED:20250402T144524Z
UID:2239-1740758400-1740772800@georgel.me
SUMMARY:Dämonen des Jetzt – Kostüm-Workshop#4
DESCRIPTION:Im GeOrgel wird vom 7. bis zum 28. Februar an vier aufeinander folgenden Freitagen jeweils von 16-20 Uhr ein Workshop mit Ruth Herberhold stattfinden\,\nder sich mit der Wahrnehmung und bildlichen Kreation von modernen Dämonen befasst.\nAngelehnt an traditionelle Kostüme\, die häufig anachronistische gesellschaftliche Ängste aufgreifen\, wie Drachen\, wilde Tiere\, Dunkelheit\,\nversuchen wir Themen zu finden und künstlerisch umzusetzen\, die aktuell bei Vielen Befürchtungen auslösen.\nDiese sollen mittels der Erstellung individueller Kostümierung\, die von den Teilnehmenden umgesetzt werden\, sichtbar und damit greifbar gemacht werden.\nDie Materialien sollen nachhaltig sein\, d.h. es dürfen ausschließlich Naturmaterialien oder bereits Verwendetes zu Einsatz kommen\, um Bewußtsein für weniger Verschwendung von Ressourcen zu schaffen.\nDen Abschluß des Workshops bildet ein ein Fotoshooting vor dem Bunker gegenüber des GeOrgels und ein Umzug durch Ückendorf\, bei dem die Teilnehmenden ihr Kostüm tragen.\nDer Termin wird mit den TeilnehmerInnen noch flexibel vor Ort besprochen\, sollte sich aber in der Hochkarnevalszeit befinden.\nDie Fotos sollen zu einer Ausstellung führen und der Öffentlichkeit in den Schaukästen am GeOrgel präsentiert werden.
URL:https://georgel.me/veranstaltung/daemonen-des-jetzt-kostuem-workshop4/
CATEGORIES:offenes Atelier,Spielen,Workshop
END:VEVENT
END:VCALENDAR