BEGIN:VCALENDAR
VERSION:2.0
PRODID:-//St.GeOrgel - ECPv6.15.11//NONSGML v1.0//EN
CALSCALE:GREGORIAN
METHOD:PUBLISH
X-WR-CALNAME:St.GeOrgel
X-ORIGINAL-URL:https://georgel.me
X-WR-CALDESC:Veranstaltungen für St.GeOrgel
REFRESH-INTERVAL;VALUE=DURATION:PT1H
X-Robots-Tag:noindex
X-PUBLISHED-TTL:PT1H
BEGIN:VTIMEZONE
TZID:Europe/Berlin
BEGIN:DAYLIGHT
TZOFFSETFROM:+0100
TZOFFSETTO:+0200
TZNAME:CEST
DTSTART:20230326T010000
END:DAYLIGHT
BEGIN:STANDARD
TZOFFSETFROM:+0200
TZOFFSETTO:+0100
TZNAME:CET
DTSTART:20231029T010000
END:STANDARD
BEGIN:DAYLIGHT
TZOFFSETFROM:+0100
TZOFFSETTO:+0200
TZNAME:CEST
DTSTART:20240331T010000
END:DAYLIGHT
BEGIN:STANDARD
TZOFFSETFROM:+0200
TZOFFSETTO:+0100
TZNAME:CET
DTSTART:20241027T010000
END:STANDARD
BEGIN:DAYLIGHT
TZOFFSETFROM:+0100
TZOFFSETTO:+0200
TZNAME:CEST
DTSTART:20250330T010000
END:DAYLIGHT
BEGIN:STANDARD
TZOFFSETFROM:+0200
TZOFFSETTO:+0100
TZNAME:CET
DTSTART:20251026T010000
END:STANDARD
END:VTIMEZONE
BEGIN:VEVENT
DTSTART;TZID=Europe/Berlin:20241220T170000
DTEND;TZID=Europe/Berlin:20241220T210000
DTSTAMP:20260422T212330
CREATED:20241111T130637Z
LAST-MODIFIED:20241111T130637Z
UID:2176-1734714000-1734728400@georgel.me
SUMMARY:Open Studio GeOrgel
DESCRIPTION:freitags 17-21\, a place to bastel: Studio GeOrgel ist ein Produktionsbüro und Veranstaltungsort\, ein offenes Atelier für alte und neue Medien; \nDie Klangschrankwand ist geöffnet und meistens auch der zweite Raum (Jam!).
URL:https://georgel.me/veranstaltung/open-studio-georgel-8/
CATEGORIES:offenes Atelier
END:VEVENT
BEGIN:VEVENT
DTSTART;TZID=Europe/Berlin:20241220T170000
DTEND;TZID=Europe/Berlin:20241220T220000
DTSTAMP:20260422T212330
CREATED:20241111T124305Z
LAST-MODIFIED:20241115T093514Z
UID:2158-1734714000-1734732000@georgel.me
SUMMARY:Projekt "Babylon Ückendorf" (Klanginstallation)
DESCRIPTION:Für das Projekt „Babylon Ückendorf“ haben wir die Schubladen mit neuen Beiträgen in verschiedenen Sprachen gefüllt\, um dies als neue Ausstellung zu feiern laden wir zur Eröffnung ein und freuen uns auf ein Konzert dazu von Kanun und Ney\, bei dem Murat Çakmaz (er spielt Ney) auch singt. \n  \n 
URL:https://georgel.me/veranstaltung/babylon-ueckendorf-install/
CATEGORIES:Ausstellung,offenes Atelier
END:VEVENT
BEGIN:VEVENT
DTSTART;TZID=Europe/Berlin:20241220T200000
DTEND;TZID=Europe/Berlin:20241220T220000
DTSTAMP:20260422T212330
CREATED:20241111T123551Z
LAST-MODIFIED:20241217T200144Z
UID:2154-1734724800-1734732000@georgel.me
SUMMARY:Ney & Kanun Duett -  türkische „Palast-Musik“
DESCRIPTION:Die türkische Kunstmusik (auch: „Palast-Musik“ genannt) ist einer der zwei Hauptzweige der Osmanischen Musik. Ney\, eine Längsflöte aus Schilf und die Kanun\, eine Kastenzither gehören zu den Hauptinstrumenten dieser Musik. Die beiden Künstler gehören zu den virtuosesten Instrumentalisten in der Orientalischen Musikszene. So nehmen sie das Publikum mit auf eine faszinierende Reise durch verschiedene Musikkulturen\, der Vergangenheit\, Gegenwart und Zukunft. \nHör auf der Flöte Rohr\, was es verkündet\,\nhör wie es klagt von Sehnsuchtsschmerz entzündet\,\nals man mich abschnitt am beschilften See\,\nda weinte alle Welt mit meinem Weh…\nRumi \nMurat Cakmaz spielt die Ney\, die traditionelle Rohrflöte der im Humanismus wurzelnden Sufi-Musik. Cakmaz wuchs in einer türkischen Musikerfamilie in Wesel auf und lernte früh das Spielen von Klarinette und Saxophon. Erst mit 14 Jahren begegnete er dem Instrument\, das\, wie er sagt\, seiner Seele sehr nahekommt\, der Ney\, einer Bambusflöte aus Schilfrohr. Er erlernte bei den großen Meistern der Türkei die arabische Spielweise und erweiterte diese um die klassische Spielweise insbesondere der osmanisch-religiösen Kunstmusik (Sufi-Musik). Er absolvierte unzählige Auftritte als Solist mit verschiedenen Sinfonieorchestern in Deutschland und im Ausland. Heute gehört er zu den gefragtesten Neyspielern und ist mit zahlreichen bekannten internationalen Projekten wetweit unterwegs. www.murat-cakmaz.com \nRecep Seber spielt die Kanun\, eine Kastenzither die zu den Hauptinstrumenten der türkischen Kunstmusik gehört. Er wuchs ebenfalls in einer Muskierfamilie auf und lernte von seinem Vater Erol Seber\, dem bekannten Komponisten und Instrumentalisten\, Makamlehre um das Kanunspiel zu erlernen. Er perfektionierte seine Spielweise und arbeitete lange Zeit mit dem erfolgreichsten türkischen Sänger Ibrahim Tatlises\, den er acht Jahre lang auf verschieden Bühnen begleitete. Darüber hinaus arbeitet er mit vielen Weltmusik Projekten und ist heute ein gefragter Studiomsusiker. \n 
URL:https://georgel.me/veranstaltung/kanun-ney-duet/
CATEGORIES:Konzert
ATTACH;FMTTYPE=image/jpeg:https://georgel.me/wp-content/uploads/2024/11/Ney-Kanun-Bild-scaled.jpg
END:VEVENT
END:VCALENDAR