BEGIN:VCALENDAR
VERSION:2.0
PRODID:-//St.GeOrgel - ECPv6.15.11//NONSGML v1.0//EN
CALSCALE:GREGORIAN
METHOD:PUBLISH
X-WR-CALNAME:St.GeOrgel
X-ORIGINAL-URL:https://georgel.me
X-WR-CALDESC:Veranstaltungen für St.GeOrgel
REFRESH-INTERVAL;VALUE=DURATION:PT1H
X-Robots-Tag:noindex
X-PUBLISHED-TTL:PT1H
BEGIN:VTIMEZONE
TZID:Europe/Berlin
BEGIN:DAYLIGHT
TZOFFSETFROM:+0100
TZOFFSETTO:+0200
TZNAME:CEST
DTSTART:20230326T010000
END:DAYLIGHT
BEGIN:STANDARD
TZOFFSETFROM:+0200
TZOFFSETTO:+0100
TZNAME:CET
DTSTART:20231029T010000
END:STANDARD
BEGIN:DAYLIGHT
TZOFFSETFROM:+0100
TZOFFSETTO:+0200
TZNAME:CEST
DTSTART:20240331T010000
END:DAYLIGHT
BEGIN:STANDARD
TZOFFSETFROM:+0200
TZOFFSETTO:+0100
TZNAME:CET
DTSTART:20241027T010000
END:STANDARD
BEGIN:DAYLIGHT
TZOFFSETFROM:+0100
TZOFFSETTO:+0200
TZNAME:CEST
DTSTART:20250330T010000
END:DAYLIGHT
BEGIN:STANDARD
TZOFFSETFROM:+0200
TZOFFSETTO:+0100
TZNAME:CET
DTSTART:20251026T010000
END:STANDARD
END:VTIMEZONE
BEGIN:VEVENT
DTSTART;TZID=Europe/Berlin:20241207T160000
DTEND;TZID=Europe/Berlin:20241207T190000
DTSTAMP:20260422T205629
CREATED:20241115T094532Z
LAST-MODIFIED:20241115T094610Z
UID:2198-1733587200-1733598000@georgel.me
SUMMARY:Umkleidekabine
DESCRIPTION:Immer samstags\, 16 bis 19:00 Uhr holt Ruth Herberhold die guten alten Klamotten heraus und es darf gestöbert und anprobiert werden! Daraus entstehen (auf Verabredung) auch die Fotoshootings für Postkarten der Serie „Schöne Grüsse aus Gelsenkirchen!“ Die GeOrgel-installation ist geöffnet\, es gibt Tee und meistens Kuchen auf Spendenbasis. \nMehr zur Umkleidekabine
URL:https://georgel.me/veranstaltung/umkleidekabine-3/
CATEGORIES:offenes Atelier,Spielen
END:VEVENT
END:VCALENDAR