BEGIN:VCALENDAR
VERSION:2.0
PRODID:-//St.GeOrgel - ECPv6.15.11//NONSGML v1.0//EN
CALSCALE:GREGORIAN
METHOD:PUBLISH
X-WR-CALNAME:St.GeOrgel
X-ORIGINAL-URL:https://georgel.me
X-WR-CALDESC:Veranstaltungen für St.GeOrgel
REFRESH-INTERVAL;VALUE=DURATION:PT1H
X-Robots-Tag:noindex
X-PUBLISHED-TTL:PT1H
BEGIN:VTIMEZONE
TZID:Europe/Berlin
BEGIN:DAYLIGHT
TZOFFSETFROM:+0100
TZOFFSETTO:+0200
TZNAME:CEST
DTSTART:20230326T010000
END:DAYLIGHT
BEGIN:STANDARD
TZOFFSETFROM:+0200
TZOFFSETTO:+0100
TZNAME:CET
DTSTART:20231029T010000
END:STANDARD
BEGIN:DAYLIGHT
TZOFFSETFROM:+0100
TZOFFSETTO:+0200
TZNAME:CEST
DTSTART:20240331T010000
END:DAYLIGHT
BEGIN:STANDARD
TZOFFSETFROM:+0200
TZOFFSETTO:+0100
TZNAME:CET
DTSTART:20241027T010000
END:STANDARD
BEGIN:DAYLIGHT
TZOFFSETFROM:+0100
TZOFFSETTO:+0200
TZNAME:CEST
DTSTART:20250330T010000
END:DAYLIGHT
BEGIN:STANDARD
TZOFFSETFROM:+0200
TZOFFSETTO:+0100
TZNAME:CET
DTSTART:20251026T010000
END:STANDARD
END:VTIMEZONE
BEGIN:VEVENT
DTSTART;TZID=Europe/Berlin:20241206T170000
DTEND;TZID=Europe/Berlin:20241206T203000
DTSTAMP:20260422T205711
CREATED:20241122T094118Z
LAST-MODIFIED:20241122T094122Z
UID:2209-1733504400-1733517000@georgel.me
SUMMARY:Stick den Fleck weg! Workshop mit Ekaterina Haak
DESCRIPTION:Du hast es versucht: Waschen\, schrubben\, ignorieren – aber dieser Fleck bleibt stur. Na gut\, dann eben anders! Warum den Fleck nicht einfach in ein Kunstwerk verwandeln? Statt zu verzweifeln\, zaubern wir mit Nadel und Faden Kunstwerke aus jedem Malheur. Egal ob Kaffeefleck\, Tomatensauce oder ein mysteriöser Schatten\, der einfach nicht mehr verschwindet – hier wird jeder Unfall zum Statement-Piece!\nKein Vorwissen nötig\, nur Mut zur Kreativität. Denn Flecken sind schließlich auch nur Stoff für neue Ideen!\nMaterial wird gestellt\, Flecken bringst du mit. \nDer Workshop ist auch für Anfänger*innen geeignet. Vorkenntnisse sind wünschenswert\, aber nicht erforderlich. \n  \nEkaterina Haak\nEkaterina ist eine Kommunikationsdesignerin und Stickerin. Am liebsten setzt sie ihre Stickereien dann ein\, wenn ein beschädigtes Kleidungsstück damit aufgewertet werden kann.
URL:https://georgel.me/veranstaltung/stick-den-fleck-weg/
CATEGORIES:Workshop
ATTACH;FMTTYPE=image/jpeg:https://georgel.me/wp-content/uploads/2024/11/Ekaterina-Haak.jpg
END:VEVENT
BEGIN:VEVENT
DTSTART;TZID=Europe/Berlin:20241206T170000
DTEND;TZID=Europe/Berlin:20241206T210000
DTSTAMP:20260422T205711
CREATED:20241111T130538Z
LAST-MODIFIED:20241111T130538Z
UID:2172-1733504400-1733518800@georgel.me
SUMMARY:Open Studio GeOrgel
DESCRIPTION:freitags 17-21\, a place to bastel: Studio GeOrgel ist ein Produktionsbüro und Veranstaltungsort\, ein offenes Atelier für alte und neue Medien; \nDie Klangschrankwand ist geöffnet und meistens auch der zweite Raum (Jam!).
URL:https://georgel.me/veranstaltung/open-studio-georgel-6/
CATEGORIES:offenes Atelier
END:VEVENT
END:VCALENDAR