BEGIN:VCALENDAR
VERSION:2.0
PRODID:-//St.GeOrgel - ECPv6.15.11//NONSGML v1.0//EN
CALSCALE:GREGORIAN
METHOD:PUBLISH
X-ORIGINAL-URL:https://georgel.me
X-WR-CALDESC:Veranstaltungen für St.GeOrgel
REFRESH-INTERVAL;VALUE=DURATION:PT1H
X-Robots-Tag:noindex
X-PUBLISHED-TTL:PT1H
BEGIN:VTIMEZONE
TZID:Europe/Berlin
BEGIN:DAYLIGHT
TZOFFSETFROM:+0100
TZOFFSETTO:+0200
TZNAME:CEST
DTSTART:20230326T010000
END:DAYLIGHT
BEGIN:STANDARD
TZOFFSETFROM:+0200
TZOFFSETTO:+0100
TZNAME:CET
DTSTART:20231029T010000
END:STANDARD
BEGIN:DAYLIGHT
TZOFFSETFROM:+0100
TZOFFSETTO:+0200
TZNAME:CEST
DTSTART:20240331T010000
END:DAYLIGHT
BEGIN:STANDARD
TZOFFSETFROM:+0200
TZOFFSETTO:+0100
TZNAME:CET
DTSTART:20241027T010000
END:STANDARD
BEGIN:DAYLIGHT
TZOFFSETFROM:+0100
TZOFFSETTO:+0200
TZNAME:CEST
DTSTART:20250330T010000
END:DAYLIGHT
BEGIN:STANDARD
TZOFFSETFROM:+0200
TZOFFSETTO:+0100
TZNAME:CET
DTSTART:20251026T010000
END:STANDARD
END:VTIMEZONE
BEGIN:VEVENT
DTSTART;TZID=Europe/Berlin:20241122T170000
DTEND;TZID=Europe/Berlin:20241122T210000
DTSTAMP:20260422T235808
CREATED:20241111T130414Z
LAST-MODIFIED:20241111T130414Z
UID:2168-1732294800-1732309200@georgel.me
SUMMARY:Open Studio GeOrgel
DESCRIPTION:freitags 17-21\, a place to bastel: Studio GeOrgel ist ein Produktionsbüro und Veranstaltungsort\, ein offenes Atelier für alte und neue Medien; \nDie Klangschrankwand ist geöffnet und meistens auch der zweite Raum (Jam!).
URL:https://georgel.me/veranstaltung/open-studio-georgel-4/
CATEGORIES:offenes Atelier
END:VEVENT
BEGIN:VEVENT
DTSTART;TZID=Europe/Berlin:20241122T200000
DTEND;TZID=Europe/Berlin:20241122T220000
DTSTAMP:20260422T235808
CREATED:20241105T203557Z
LAST-MODIFIED:20250404T120837Z
UID:2151-1732305600-1732312800@georgel.me
SUMMARY:Salome Amend & Simon Camatta live (im Open Studio)
DESCRIPTION:freitags 17-21\, a place to bastel: Studio GeOrgel ist ein Produktionsbüro und Veranstaltungsort\, ein offenes Atelier für alte und neue Medien. Die Klangschrankwand ist geöffnet und meistens auch der zweite Raum (Jam!). \nAchtung – ab 20 Uhr findet ein Konzert statt: \nSalome Amend & Simon Camatta: 2 x percussion
URL:https://georgel.me/veranstaltung/open-studio-georgel-2/
CATEGORIES:Konzert
ATTACH;FMTTYPE=image/jpeg:https://georgel.me/wp-content/uploads/2024/11/24SG_SalomeSimon_INSTA.jpg
END:VEVENT
END:VCALENDAR